BEGIN:VCALENDAR
VERSION:2.0
PRODID:-//Arcigay Tralaltro Padova APS - ECPv6.15.20//NONSGML v1.0//EN
CALSCALE:GREGORIAN
METHOD:PUBLISH
X-ORIGINAL-URL:https://www.tralaltro.it/en
X-WR-CALDESC:Events for Arcigay Tralaltro Padova APS
REFRESH-INTERVAL;VALUE=DURATION:PT1H
X-Robots-Tag:noindex
X-PUBLISHED-TTL:PT1H
BEGIN:VTIMEZONE
TZID:Europe/Rome
BEGIN:DAYLIGHT
TZOFFSETFROM:+0100
TZOFFSETTO:+0200
TZNAME:CEST
DTSTART:20240331T010000
END:DAYLIGHT
BEGIN:STANDARD
TZOFFSETFROM:+0200
TZOFFSETTO:+0100
TZNAME:CET
DTSTART:20241027T010000
END:STANDARD
BEGIN:DAYLIGHT
TZOFFSETFROM:+0100
TZOFFSETTO:+0200
TZNAME:CEST
DTSTART:20250330T010000
END:DAYLIGHT
BEGIN:STANDARD
TZOFFSETFROM:+0200
TZOFFSETTO:+0100
TZNAME:CET
DTSTART:20251026T010000
END:STANDARD
BEGIN:DAYLIGHT
TZOFFSETFROM:+0100
TZOFFSETTO:+0200
TZNAME:CEST
DTSTART:20260329T010000
END:DAYLIGHT
BEGIN:STANDARD
TZOFFSETFROM:+0200
TZOFFSETTO:+0100
TZNAME:CET
DTSTART:20261025T010000
END:STANDARD
END:VTIMEZONE
BEGIN:VEVENT
DTSTART;TZID=Europe/Rome:20251028T183000
DTEND;TZID=Europe/Rome:20251028T223000
DTSTAMP:20260425T134716
CREATED:20250930T082356Z
LAST-MODIFIED:20250930T082356Z
UID:1284-1761676200-1761690600@www.tralaltro.it
SUMMARY:Gruppo Giovani - Halloqueer
DESCRIPTION:Siamo prontə a prenderci una pausa dai nostri incontri abituali per festeggiare Halloween con tuttə voi! Il Gruppo Giovani vi aspetta per una serata indimenticabile\, all’insegna del divertimento\, dei brividi e\, ovviamente\, dei costumi più spaventosi (o buffi!) che abbiate mai indossato. \nL’invito è caloroso: tirate fuori dall’armadio il vostro outfit più terrificante! Che sia il costume di unə stregə\, di un vampirə\, o anche solo quell’orribile maglione che nascondete da anni… questa è la notte perfetta per sfoggiarlo. \nVi aspettiamo per ballare\, chiacchierare e stare insieme in un’atmosfera unica\, dove l’unica regola è divertirsi ed essere se stessə. Non mancate\, vi promettiamo una notte… da urlo! \n📍 Dove: Arcigay Tralaltro Padova – Corso Garibaldi 41🗓️ Quando: martedì 28 ottobre a partire dalle 18:30Non serve prenotazione né tessera in anticipo: porta solo te stessə e la voglia di divertirti 👻
URL:https://www.tralaltro.it/en/evento/gruppo-giovani-halloqueer/
LOCATION:TRALALTRO\, Corso Garibaldi 41\, Padova\, Italy
CATEGORIES:Gruppo Giovani
ATTACH;FMTTYPE=image/png:https://www.tralaltro.it/wp-content/uploads/2025/09/Halloween-Gruppo-Giovani.png
END:VEVENT
END:VCALENDAR