BEGIN:VCALENDAR
VERSION:2.0
PRODID:-//Arcigay Tralaltro Padova APS - ECPv6.15.20//NONSGML v1.0//EN
CALSCALE:GREGORIAN
METHOD:PUBLISH
X-ORIGINAL-URL:https://www.tralaltro.it/en
X-WR-CALDESC:Events for Arcigay Tralaltro Padova APS
REFRESH-INTERVAL;VALUE=DURATION:PT1H
X-Robots-Tag:noindex
X-PUBLISHED-TTL:PT1H
BEGIN:VTIMEZONE
TZID:Europe/Rome
BEGIN:DAYLIGHT
TZOFFSETFROM:+0100
TZOFFSETTO:+0200
TZNAME:CEST
DTSTART:20240331T010000
END:DAYLIGHT
BEGIN:STANDARD
TZOFFSETFROM:+0200
TZOFFSETTO:+0100
TZNAME:CET
DTSTART:20241027T010000
END:STANDARD
BEGIN:DAYLIGHT
TZOFFSETFROM:+0100
TZOFFSETTO:+0200
TZNAME:CEST
DTSTART:20250330T010000
END:DAYLIGHT
BEGIN:STANDARD
TZOFFSETFROM:+0200
TZOFFSETTO:+0100
TZNAME:CET
DTSTART:20251026T010000
END:STANDARD
BEGIN:DAYLIGHT
TZOFFSETFROM:+0100
TZOFFSETTO:+0200
TZNAME:CEST
DTSTART:20260329T010000
END:DAYLIGHT
BEGIN:STANDARD
TZOFFSETFROM:+0200
TZOFFSETTO:+0100
TZNAME:CET
DTSTART:20261025T010000
END:STANDARD
END:VTIMEZONE
BEGIN:VEVENT
DTSTART;TZID=Europe/Rome:20251104T183000
DTEND;TZID=Europe/Rome:20251104T223000
DTSTAMP:20260423T141100
CREATED:20251028T213303Z
LAST-MODIFIED:20251028T213304Z
UID:1368-1762281000-1762295400@www.tralaltro.it
SUMMARY:Gruppo Giovani - 4 Novembre - Antispecismo
DESCRIPTION:🐾 Antispecismo 🌱 \nHai mai sentito parlare di antispecismo?\nSpesso si pensa subito a “chi è vegan”\, ma in realtà è molto di più.\nEssere antispecistə significa riconoscere che tutte le forme di vita — umane e non umane — meritano rispetto\, libertà e dignità. \nL’antispecismo è una prospettiva politica e sociale intersezionale\, che collega la liberazione animale alla giustizia ambientale\, alla queerness e al femminismo.\nÈ una lotta contro le gerarchie e le oppressioni che attraversano corpi\, specie e identità. \nNe parleremo insieme alla nostra attivista queer e antispecista Annachiara Chemello (@‌naki.earth). \n📅Martedì 04 novembre alle ore 18:30\n📍 Corso Garibaldi 41\, Padova \nTi aspettiamo per scoprire come le lotte per la libertà si intrecciano — umane e non umane\, queer e antispeciste. \nSeguirà un momento conviviale in cui mangeremo insieme: puoi portarti la schiscetta da casa o ordinare insieme a noi una pizza 🍕 \nNon serve essere già tesseratɜ: chiunque abbia voglia di avvicinarsi al gruppo è benvenutə ✨
URL:https://www.tralaltro.it/en/evento/gruppo-giovani-4-novembre-antispecismo/
LOCATION:TRALALTRO\, Corso Garibaldi 41\, Padova\, Italy
CATEGORIES:Gruppo Giovani
ATTACH;FMTTYPE=image/png:https://www.tralaltro.it/wp-content/uploads/2025/10/antispecismo.png
END:VEVENT
END:VCALENDAR