BEGIN:VCALENDAR
VERSION:2.0
PRODID:-//Arcigay Tralaltro Padova APS - ECPv6.15.20//NONSGML v1.0//EN
CALSCALE:GREGORIAN
METHOD:PUBLISH
X-ORIGINAL-URL:https://www.tralaltro.it/en
X-WR-CALDESC:Events for Arcigay Tralaltro Padova APS
REFRESH-INTERVAL;VALUE=DURATION:PT1H
X-Robots-Tag:noindex
X-PUBLISHED-TTL:PT1H
BEGIN:VTIMEZONE
TZID:Europe/Rome
BEGIN:DAYLIGHT
TZOFFSETFROM:+0100
TZOFFSETTO:+0200
TZNAME:CEST
DTSTART:20250330T010000
END:DAYLIGHT
BEGIN:STANDARD
TZOFFSETFROM:+0200
TZOFFSETTO:+0100
TZNAME:CET
DTSTART:20251026T010000
END:STANDARD
BEGIN:DAYLIGHT
TZOFFSETFROM:+0100
TZOFFSETTO:+0200
TZNAME:CEST
DTSTART:20260329T010000
END:DAYLIGHT
BEGIN:STANDARD
TZOFFSETFROM:+0200
TZOFFSETTO:+0100
TZNAME:CET
DTSTART:20261025T010000
END:STANDARD
BEGIN:DAYLIGHT
TZOFFSETFROM:+0100
TZOFFSETTO:+0200
TZNAME:CEST
DTSTART:20270328T010000
END:DAYLIGHT
BEGIN:STANDARD
TZOFFSETFROM:+0200
TZOFFSETTO:+0100
TZNAME:CET
DTSTART:20271031T010000
END:STANDARD
END:VTIMEZONE
BEGIN:VEVENT
DTSTART;TZID=Europe/Rome:20260120T183000
DTEND;TZID=Europe/Rome:20260120T223000
DTSTAMP:20260425T171309
CREATED:20260106T160015Z
LAST-MODIFIED:20260106T160220Z
UID:1562-1768933800-1768948200@www.tralaltro.it
SUMMARY:Gruppo Giovani 🎲 NERD & QUEER 🌈
DESCRIPTION:Stancə delle solite app e dello scrolling infinito?Il Gruppo Giovani si trasforma in una ‘Game Room’ per una serata dedicata ai giochi da tavolo e ai grandi classici delle carte. Che tu sia unə stratega da Risiko\, unə espertə di Uno o semplicemente unə curiosə in cerca di compagnia\, c’è un posto al tavolo che ti aspetta.🎮 Porta il tuo gioco: Hai un gioco che prende polvere? Portalo con te e insegnaci le regole! \n📍 Dove: Arcigay Tralaltro Padova – Corso Garibaldi 41🗓️ Quando: martedì 20 gennaio dalle 18:30 \nVieni a sfidare la sorte e a vincere la serata più divertente dell’anno! \nSeguirà un momento conviviale in cui mangeremo insieme: puoi portarti la schiscetta da casa o ordinare insieme a noi una pizza 🍕 \nNon serve essere già tesseratɜ: chiunque abbia voglia di avvicinarsi al gruppo è benvenutə ✨
URL:https://www.tralaltro.it/en/evento/gruppo-giovani-nerd-queer/
LOCATION:TRALALTRO\, Corso Garibaldi 41\, Padova\, Italy
CATEGORIES:Gruppo Giovani
ATTACH;FMTTYPE=image/png:https://www.tralaltro.it/wp-content/uploads/2026/01/gruppo-giovani-20-gennaio-e1767715319932.png
END:VEVENT
END:VCALENDAR