BEGIN:VCALENDAR
VERSION:2.0
PRODID:-//Arcigay Tralaltro Padova APS - ECPv6.15.20//NONSGML v1.0//EN
CALSCALE:GREGORIAN
METHOD:PUBLISH
X-ORIGINAL-URL:https://www.tralaltro.it/en
X-WR-CALDESC:Events for Arcigay Tralaltro Padova APS
REFRESH-INTERVAL;VALUE=DURATION:PT1H
X-Robots-Tag:noindex
X-PUBLISHED-TTL:PT1H
BEGIN:VTIMEZONE
TZID:Europe/Rome
BEGIN:DAYLIGHT
TZOFFSETFROM:+0100
TZOFFSETTO:+0200
TZNAME:CEST
DTSTART:20250330T010000
END:DAYLIGHT
BEGIN:STANDARD
TZOFFSETFROM:+0200
TZOFFSETTO:+0100
TZNAME:CET
DTSTART:20251026T010000
END:STANDARD
BEGIN:DAYLIGHT
TZOFFSETFROM:+0100
TZOFFSETTO:+0200
TZNAME:CEST
DTSTART:20260329T010000
END:DAYLIGHT
BEGIN:STANDARD
TZOFFSETFROM:+0200
TZOFFSETTO:+0100
TZNAME:CET
DTSTART:20261025T010000
END:STANDARD
BEGIN:DAYLIGHT
TZOFFSETFROM:+0100
TZOFFSETTO:+0200
TZNAME:CEST
DTSTART:20270328T010000
END:DAYLIGHT
BEGIN:STANDARD
TZOFFSETFROM:+0200
TZOFFSETTO:+0100
TZNAME:CET
DTSTART:20271031T010000
END:STANDARD
END:VTIMEZONE
BEGIN:VEVENT
DTSTART;TZID=Europe/Rome:20260127T183000
DTEND;TZID=Europe/Rome:20260127T223000
DTSTAMP:20260425T134716
CREATED:20260106T162048Z
LAST-MODIFIED:20260106T162551Z
UID:1565-1769538600-1769553000@www.tralaltro.it
SUMMARY:GRUPPO GIOVANI - 27 gennaio - RELIGIONE E QUEERNESS
DESCRIPTION:Leggendo alcuni passi della Bibbia e soffermandoci su alcune affermazioni che nel tempo sono state fatte dalla Chiesa\, uno dei pensieri più comuni è che il Cristianesimo e la Comunità Queer siano due dimensioni che si escludono a vicenda e non possa esserci spazio per entrambe nella nostra identità. \nE se non fosse così? \nApprofondiremo la questione con il Mandorlo (@‌ilmandorlo_padova)\, che ci porterà una prospettiva diversa attraverso le testimonianze di chi ha una fede Cristiana e al contempo appartiene alla comunità queer. \n📍 Dove: Arcigay Tralaltro Padova – Corso Garibaldi 41\n🗓️ Quando: martedì 27 gennaio alle 18:30 \nSeguirà un momento conviviale in cui mangeremo insieme: puoi portarti la schiscetta da casa o ordinare insieme a noi una pizza 🍕 \nNon serve essere già tesseratɜ: chiunque abbia voglia di avvicinarsi al gruppo è benvenutə ✨ \n  \n{\n“title”: “Cristianesimo e comunità queer: e se non si escludessero?”\,\n“slug”: “cristianesimo-e-comunita-queer”\,\n“status”: “publish”\,\n“type”: “event”\,\n“excerpt”: “Un incontro per mettere in discussione l’idea che fede cristiana e identità queer siano incompatibili\, grazie alle testimonianze di chi vive entrambe le dimensioni.”\,\n“content_html”: “Leggendo alcuni passi della Bibbia e soffermandoci su alcune affermazioni che nel tempo sono state fatte dalla Chiesa\, uno dei pensieri più comuni è che il Cristianesimo e la Comunità Queer siano due dimensioni che si escludono a vicenda e non possa esserci spazio per entrambe nella nostra identità.\n\n \nE se non fosse così? \n\n\n \nApprofondiremo la questione con il Mandorlo (@ilmandorlo_padova)\, che ci porterà una prospettiva diversa attraverso le testimonianze di chi ha una fede Cristiana e al contempo appartiene alla comunità queer. \n\n\n \n\n\n\n \n\n\n\n \n📍 Dove: Arcigay Tralaltro Padova – Corso Garibaldi 41\n\n\n\n\n \n\n\n\n🗓️ Quando: martedì 27 gennaio alle 18:30\n\n\n\n\n \n\n\n \nSeguirà un momento conviviale in cui mangeremo insieme: puoi portarti la schiscetta da casa o ordinare insieme a noi una pizza 🍕 \n\n\n \nNon serve essere già tesseratɜ: chiunque abbia voglia di avvicinarsi al gruppo è benvenutə ✨ \n“\,\n“location”: {\n“name”: “Arcigay Tralaltro Padova”\,\n“address”: “Corso Garibaldi 41\, Padova”\n}\,\n“date”: {\n“start”: “2026-01-27T18:30:00”\,\n“timezone”: “Europe/Rome”\n}\,\n“tags”: [\n“Gruppo Giovani”\,\n“queer”\,\n“fede”\,\n“cristianesimo”\,\n“incontro”\n]\n}
URL:https://www.tralaltro.it/en/evento/gruppo-giovani-27-gennaio-religione-e-queerness/
LOCATION:TRALALTRO\, Corso Garibaldi 41\, Padova\, Italy
CATEGORIES:Gruppo Giovani
ATTACH;FMTTYPE=image/png:https://www.tralaltro.it/wp-content/uploads/2026/01/245b3216-9277-4a5a-b62f-de664fdc388b.png
END:VEVENT
END:VCALENDAR