BEGIN:VCALENDAR
VERSION:2.0
PRODID:-//Arcigay Tralaltro Padova APS - ECPv6.15.20//NONSGML v1.0//EN
CALSCALE:GREGORIAN
METHOD:PUBLISH
X-ORIGINAL-URL:https://www.tralaltro.it
X-WR-CALDESC:Eventi per Arcigay Tralaltro Padova APS
REFRESH-INTERVAL;VALUE=DURATION:PT1H
X-Robots-Tag:noindex
X-PUBLISHED-TTL:PT1H
BEGIN:VTIMEZONE
TZID:Europe/Rome
BEGIN:DAYLIGHT
TZOFFSETFROM:+0100
TZOFFSETTO:+0200
TZNAME:CEST
DTSTART:20240331T010000
END:DAYLIGHT
BEGIN:STANDARD
TZOFFSETFROM:+0200
TZOFFSETTO:+0100
TZNAME:CET
DTSTART:20241027T010000
END:STANDARD
BEGIN:DAYLIGHT
TZOFFSETFROM:+0100
TZOFFSETTO:+0200
TZNAME:CEST
DTSTART:20250330T010000
END:DAYLIGHT
BEGIN:STANDARD
TZOFFSETFROM:+0200
TZOFFSETTO:+0100
TZNAME:CET
DTSTART:20251026T010000
END:STANDARD
BEGIN:DAYLIGHT
TZOFFSETFROM:+0100
TZOFFSETTO:+0200
TZNAME:CEST
DTSTART:20260329T010000
END:DAYLIGHT
BEGIN:STANDARD
TZOFFSETFROM:+0200
TZOFFSETTO:+0100
TZNAME:CET
DTSTART:20261025T010000
END:STANDARD
END:VTIMEZONE
BEGIN:VEVENT
DTSTART;TZID=Europe/Rome:20251112T204500
DTEND;TZID=Europe/Rome:20251112T230000
DTSTAMP:20260423T153316
CREATED:20251028T224040Z
LAST-MODIFIED:20251028T224247Z
UID:1382-1762980300-1762988400@www.tralaltro.it
SUMMARY:Aperitivo - Gruppo Millenial - 12 Novembre
DESCRIPTION:🦖 Unisciti a noi per una serata unica in stile Scandinavo Trash! Festeggiamo la nascita del Gruppo Millennial\, un nuovo spazio per incontrarci\, discutere e riflettere insieme\, con un occhio critico e uno sguardo ironico\, su tutto ciò che riguarda chi è nato tra il 1981 e il 1996. \n👾 Scopri le attività che ti aspettano quest’anno e conosci i membri del gruppo! \n🎶 Musica anni 2000 che ti farà ballare tutta la sera: da ABBA a Britney\, da Eiffel 65 a Green Day\, da Beyoncé a tanto altro\, in una selezione sonora che ti farà tornare a quei mitici anni! \n📍 Dove? Arcigay Tralaltro Padova – Corso Garibaldi 41 \n🗓️ Quando? Domenica 12 novembre\, dalle 20:45 \n🚀 Non serve prenotazione né tessera: porta solo te stessə e la voglia di divertirti con il nostro mix di divertimento\, cultura pop e tanto trash scandinavo! 🎉
URL:https://www.tralaltro.it/evento/aperitivo-gruppo-millenial-12-novembre/
LOCATION:TRALALTRO\, Corso Garibaldi 41\, Padova\, Italy
CATEGORIES:Millennial
ATTACH;FMTTYPE=image/png:https://www.tralaltro.it/wp-content/uploads/2025/10/millennial_scandinavia.png
ORGANIZER;CN="Danilo Stocchino":MAILTO:fuoridaigiri@tralaltro.it
END:VEVENT
END:VCALENDAR