BEGIN:VCALENDAR
VERSION:2.0
PRODID:-//Arcigay Tralaltro Padova APS - ECPv6.15.20//NONSGML v1.0//EN
CALSCALE:GREGORIAN
METHOD:PUBLISH
X-ORIGINAL-URL:https://www.tralaltro.it
X-WR-CALDESC:Eventi per Arcigay Tralaltro Padova APS
REFRESH-INTERVAL;VALUE=DURATION:PT1H
X-Robots-Tag:noindex
X-PUBLISHED-TTL:PT1H
BEGIN:VTIMEZONE
TZID:Europe/Rome
BEGIN:DAYLIGHT
TZOFFSETFROM:+0100
TZOFFSETTO:+0200
TZNAME:CEST
DTSTART:20240331T010000
END:DAYLIGHT
BEGIN:STANDARD
TZOFFSETFROM:+0200
TZOFFSETTO:+0100
TZNAME:CET
DTSTART:20241027T010000
END:STANDARD
BEGIN:DAYLIGHT
TZOFFSETFROM:+0100
TZOFFSETTO:+0200
TZNAME:CEST
DTSTART:20250330T010000
END:DAYLIGHT
BEGIN:STANDARD
TZOFFSETFROM:+0200
TZOFFSETTO:+0100
TZNAME:CET
DTSTART:20251026T010000
END:STANDARD
BEGIN:DAYLIGHT
TZOFFSETFROM:+0100
TZOFFSETTO:+0200
TZNAME:CEST
DTSTART:20260329T010000
END:DAYLIGHT
BEGIN:STANDARD
TZOFFSETFROM:+0200
TZOFFSETTO:+0100
TZNAME:CET
DTSTART:20261025T010000
END:STANDARD
END:VTIMEZONE
BEGIN:VEVENT
DTSTART;TZID=Europe/Rome:20251202T183000
DTEND;TZID=Europe/Rome:20251202T213000
DTSTAMP:20260425T185503
CREATED:20251124T172229Z
LAST-MODIFIED:20251124T173946Z
UID:1490-1764700200-1764711000@www.tralaltro.it
SUMMARY:Gruppo Giovani - 2 Dicembre
DESCRIPTION:📢 AI\, Giornalismo e Narrativa su HIV/IST: Come informare oggi? 🤖 \nIn occasione della Giornata Mondiale per la lotta all’HIV (1° dicembre)\, il Gruppo Giovani vi invita ad un incontro cruciale per discutere l’informazione e la narrazione mediatica su HIV e altre Infezioni Sessualmente Trasmissibili (IST). \nIn un’era dominata dai social e dall’Intelligenza Artificiale\, l’informazione è veloce\, ma non sempre corretta. Come viene raccontato l’HIV/IST nel giornalismo? E in che modo strumenti come l’AI possono influenzare questa narrazione\, tra rischi di fake news e opportunità per una comunicazione più efficace e meno stigmatizzante? \nUnisciti a noi per approfondire\, riflettere e contribuire a una corretta informazione! \n\n\n📍 Dove: Arcigay Tralaltro Padova – Corso Garibaldi 41 \n\n\n🗓️ Quando: Lunedì 2 Dicembre alle 18:30 \n\n\nSeguirà un momento conviviale in cui potremo continuare a chiacchierare tutti insieme! Sentiti liberǝ di portare qualcosa da casa o unisciti a noi per ordinare una pizza 🍕. \nNon è necessario essere già tesseratɜ: chiunque sia interessatə ad avvicinarsi al gruppo e al tema è benvenutə ✨
URL:https://www.tralaltro.it/evento/gruppo-giovani-2-dicembre/
LOCATION:TRALALTRO\, Corso Garibaldi 41\, Padova\, Italy
CATEGORIES:Gruppo Giovani
ATTACH;FMTTYPE=image/png:https://www.tralaltro.it/wp-content/uploads/2025/11/gruppo-giovani-arcigay-2-dicembe.png
END:VEVENT
END:VCALENDAR