BEGIN:VCALENDAR
VERSION:2.0
PRODID:-//Arcigay Tralaltro Padova APS - ECPv6.15.20//NONSGML v1.0//EN
CALSCALE:GREGORIAN
METHOD:PUBLISH
X-WR-CALNAME:Arcigay Tralaltro Padova APS
X-ORIGINAL-URL:https://www.tralaltro.it
X-WR-CALDESC:Eventi per Arcigay Tralaltro Padova APS
REFRESH-INTERVAL;VALUE=DURATION:PT1H
X-Robots-Tag:noindex
X-PUBLISHED-TTL:PT1H
BEGIN:VTIMEZONE
TZID:Europe/Rome
BEGIN:DAYLIGHT
TZOFFSETFROM:+0100
TZOFFSETTO:+0200
TZNAME:CEST
DTSTART:20240331T010000
END:DAYLIGHT
BEGIN:STANDARD
TZOFFSETFROM:+0200
TZOFFSETTO:+0100
TZNAME:CET
DTSTART:20241027T010000
END:STANDARD
BEGIN:DAYLIGHT
TZOFFSETFROM:+0100
TZOFFSETTO:+0200
TZNAME:CEST
DTSTART:20250330T010000
END:DAYLIGHT
BEGIN:STANDARD
TZOFFSETFROM:+0200
TZOFFSETTO:+0100
TZNAME:CET
DTSTART:20251026T010000
END:STANDARD
BEGIN:DAYLIGHT
TZOFFSETFROM:+0100
TZOFFSETTO:+0200
TZNAME:CEST
DTSTART:20260329T010000
END:DAYLIGHT
BEGIN:STANDARD
TZOFFSETFROM:+0200
TZOFFSETTO:+0100
TZNAME:CET
DTSTART:20261025T010000
END:STANDARD
END:VTIMEZONE
BEGIN:VEVENT
DTSTART;TZID=Europe/Rome:20251203T193000
DTEND;TZID=Europe/Rome:20251203T220000
DTSTAMP:20260425T201329
CREATED:20251124T164711Z
LAST-MODIFIED:20251124T170023Z
UID:1484-1764790200-1764799200@www.tralaltro.it
SUMMARY:Gruppo Millenial - 3 dicembre - Genitorialità queer
DESCRIPTION:Su 27 Paesi dell’Unione Europea\, 17 prevedono l’adozione per persone LGBTI+. Una grande assente? L’Italia. Ma questo non significa che la comunità LGBTQIA+ non abbia\, o non possa avere un desiderio di genitorialità. Oggi\, infatti\, in Italia crescono oltre 1.500 bambinə nati e cresciuti in famiglie omogenitoriali. \nQual è la situazione legale italiana e soprattutto quali sono gli strumenti per superare gli attuali blocchi normativi? Ne parleremo insieme a Giulia Patrassi Leopardi\, avvocata della Rete Lenford – Avvocatura per i diritti LGBTI+. \n📍 Dove e quando? \n🗓 Mercoledì 3 Dicembre \n🕢 Dalle 19:30 ci troviamo per una cena condivisa (porta qualcosa da casa e\, se vuoi\, condividi) \n🗣 Inizio incontro: 20:30 \n📍 Arcigay Tralaltro Padova – Corso Giuseppe Garibaldi 41 \n📩 Per dubbi o proposte: millennial@tralaltro.it \n…ma soprattutto: vieni a trovarci!
URL:https://www.tralaltro.it/evento/gruppo-millenial-3-dicembre-genitorialita-queer/
LOCATION:TRALALTRO\, Corso Garibaldi 41\, Padova\, Italy
CATEGORIES:Millennial
ATTACH;FMTTYPE=image/png:https://www.tralaltro.it/wp-content/uploads/2025/11/millennial-dino.png
ORGANIZER;CN="Danilo Stocchino":MAILTO:fuoridaigiri@tralaltro.it
END:VEVENT
END:VCALENDAR