BEGIN:VCALENDAR
VERSION:2.0
PRODID:-//Arcigay Tralaltro Padova APS - ECPv6.15.20//NONSGML v1.0//EN
CALSCALE:GREGORIAN
METHOD:PUBLISH
X-WR-CALNAME:Arcigay Tralaltro Padova APS
X-ORIGINAL-URL:https://www.tralaltro.it
X-WR-CALDESC:Eventi per Arcigay Tralaltro Padova APS
REFRESH-INTERVAL;VALUE=DURATION:PT1H
X-Robots-Tag:noindex
X-PUBLISHED-TTL:PT1H
BEGIN:VTIMEZONE
TZID:Europe/Rome
BEGIN:DAYLIGHT
TZOFFSETFROM:+0100
TZOFFSETTO:+0200
TZNAME:CEST
DTSTART:20250330T010000
END:DAYLIGHT
BEGIN:STANDARD
TZOFFSETFROM:+0200
TZOFFSETTO:+0100
TZNAME:CET
DTSTART:20251026T010000
END:STANDARD
BEGIN:DAYLIGHT
TZOFFSETFROM:+0100
TZOFFSETTO:+0200
TZNAME:CEST
DTSTART:20260329T010000
END:DAYLIGHT
BEGIN:STANDARD
TZOFFSETFROM:+0200
TZOFFSETTO:+0100
TZNAME:CET
DTSTART:20261025T010000
END:STANDARD
BEGIN:DAYLIGHT
TZOFFSETFROM:+0100
TZOFFSETTO:+0200
TZNAME:CEST
DTSTART:20270328T010000
END:DAYLIGHT
BEGIN:STANDARD
TZOFFSETFROM:+0200
TZOFFSETTO:+0100
TZNAME:CET
DTSTART:20271031T010000
END:STANDARD
END:VTIMEZONE
BEGIN:VEVENT
DTSTART;TZID=Europe/Rome:20260113T183000
DTEND;TZID=Europe/Rome:20260113T213000
DTSTAMP:20260425T201308
CREATED:20251223T144334Z
LAST-MODIFIED:20251223T144335Z
UID:1545-1768329000-1768339800@www.tralaltro.it
SUMMARY:Gruppo Giovani RE-QUEER: Il Detox dai Parenti
DESCRIPTION:Dopo settimane passate a schivare le domande indiscrete della zia al cenone e a sorridere per educazione davanti a commenti ‘vintage’\, il Gruppo Giovani vi invita all’aperitivo post-vacanze: niente parenti\, solo brindisi\, chiacchiere e tanta voglia di stare insieme. \nÈ l’occasione perfetta per chi non ci conosce ancora: vieni a scoprire la nostra realtà\, a fare due chiacchiere e a scoprire che il rientro a Padova può essere decisamente favoloso. 🍹✨ \n📍 Dove: Arcigay Tralaltro Padova – Corso Garibaldi 41\n🗓️ Quando: martedì 13 gennaio a partire dalle 18:30 \nNon serve prenotazione né tessera in anticipo: Portate voi stessə\, al resto pensiamo noi! 🌈✨.
URL:https://www.tralaltro.it/evento/gruppo-giovani-re-queer-il-detox-dai-parenti/
LOCATION:TRALALTRO\, Corso Garibaldi 41\, Padova\, Italy
CATEGORIES:Gruppo Giovani
ATTACH;FMTTYPE=image/png:https://www.tralaltro.it/wp-content/uploads/2025/12/giovani-13-gennio.png
END:VEVENT
END:VCALENDAR