BEGIN:VCALENDAR
VERSION:2.0
PRODID:-//Arcigay Tralaltro Padova APS - ECPv6.15.20//NONSGML v1.0//EN
CALSCALE:GREGORIAN
METHOD:PUBLISH
X-ORIGINAL-URL:https://www.tralaltro.it
X-WR-CALDESC:Eventi per Arcigay Tralaltro Padova APS
REFRESH-INTERVAL;VALUE=DURATION:PT1H
X-Robots-Tag:noindex
X-PUBLISHED-TTL:PT1H
BEGIN:VTIMEZONE
TZID:Europe/Rome
BEGIN:DAYLIGHT
TZOFFSETFROM:+0100
TZOFFSETTO:+0200
TZNAME:CEST
DTSTART:20250330T010000
END:DAYLIGHT
BEGIN:STANDARD
TZOFFSETFROM:+0200
TZOFFSETTO:+0100
TZNAME:CET
DTSTART:20251026T010000
END:STANDARD
BEGIN:DAYLIGHT
TZOFFSETFROM:+0100
TZOFFSETTO:+0200
TZNAME:CEST
DTSTART:20260329T010000
END:DAYLIGHT
BEGIN:STANDARD
TZOFFSETFROM:+0200
TZOFFSETTO:+0100
TZNAME:CET
DTSTART:20261025T010000
END:STANDARD
BEGIN:DAYLIGHT
TZOFFSETFROM:+0100
TZOFFSETTO:+0200
TZNAME:CEST
DTSTART:20270328T010000
END:DAYLIGHT
BEGIN:STANDARD
TZOFFSETFROM:+0200
TZOFFSETTO:+0100
TZNAME:CET
DTSTART:20271031T010000
END:STANDARD
END:VTIMEZONE
BEGIN:VEVENT
DTSTART;TZID=Europe/Rome:20260121T203000
DTEND;TZID=Europe/Rome:20260121T223000
DTSTAMP:20260426T021103
CREATED:20260106T165619Z
LAST-MODIFIED:20260106T170017Z
UID:1574-1769027400-1769034600@www.tralaltro.it
SUMMARY:Gruppo Millenial - "le Comunità Kinky"
DESCRIPTION:Apriamo l’anno parlando di piacere sessuale: oltre i tabù e le convenzioni normative. \nIn Europa e in Italia sono nate varie comunità eterogenee che sempre più spesso si intersecano con la comunità LGBTQIA+. Comunità che portano avanti una dichiarazione di piacere\, ma anche rivendicazioni politiche chiare: maggiore visibilità\, abbattimento del tabù del sesso e uno sguardo ampio e non normalizzante sulle relazioni affettive e sessuali. \nMa siamo davvero sicur3 di sapere cosa vuol dire kinky?E cosa distingue il kink dal fetish? \nNe parliamo con Social Fetish Padua\, gruppo nato ormai da due anni che ha portato sul territorio diverse iniziative\, tra cui la Puppy Walk dello scorso anno (spoiler: ci sarà anche quest’anno!). \nPiccola nota: se ti senti a tuo agio\, vieni pure vestitə con il tuo fetish outfit \n\n📍 Dove e quando?🗓 Mercoledì 21 gennaio🕢 Dalle 19:30 ci troviamo per una cena condivisa(porta qualcosa da casa e\, se vuoi\, condividi)🗣 Inizio incontro: 20:30📍 Arcigay Tralaltro Padova – Corso Giuseppe Garibaldi 41 \n📩 Per dubbi o proposte: millennial@tralaltro.it…ma soprattutto: vieni a trovarci! \n\nIncontro su kink\, fetish e piacere sessuale a Padova\nEvento LGBTQIA+ a Padova dedicato a kink\, fetish e piacere sessuale\, organizzato dal Gruppo Millennial di Arcigay Tralaltro Padova con Social Fetish Padua. Incontro su sessualità non normativa\, consenso\, relazioni affettive e comunità kinky e fetish in Italia. \nTalk e confronto aperto per chiarire differenze tra kink e fetish\, superare tabù sul sesso e valorizzare il piacere come esperienza culturale e politica nella comunità LGBTQIA+. \nParole chiave: kink Padova\, fetish Padova\, evento LGBTQIA Padova\, Arcigay Tralaltro\, Social Fetish Padua\, sessualità non normativa\, consenso\, comunità kinky.
URL:https://www.tralaltro.it/evento/gruppo-millenial-le-comunita-kinky/
LOCATION:TRALALTRO\, Corso Garibaldi 41\, Padova\, Italy
CATEGORIES:Millennial
ATTACH;FMTTYPE=image/png:https://www.tralaltro.it/wp-content/uploads/2026/01/Gruppo-millenial-22le-comunita-kinky22.png
ORGANIZER;CN="Danilo Stocchino":MAILTO:fuoridaigiri@tralaltro.it
END:VEVENT
END:VCALENDAR