BEGIN:VCALENDAR
VERSION:2.0
PRODID:-//Arcigay Tralaltro Padova APS - ECPv6.15.20//NONSGML v1.0//EN
CALSCALE:GREGORIAN
METHOD:PUBLISH
X-ORIGINAL-URL:https://www.tralaltro.it
X-WR-CALDESC:Eventi per Arcigay Tralaltro Padova APS
REFRESH-INTERVAL;VALUE=DURATION:PT1H
X-Robots-Tag:noindex
X-PUBLISHED-TTL:PT1H
BEGIN:VTIMEZONE
TZID:Europe/Rome
BEGIN:DAYLIGHT
TZOFFSETFROM:+0100
TZOFFSETTO:+0200
TZNAME:CEST
DTSTART:20250330T010000
END:DAYLIGHT
BEGIN:STANDARD
TZOFFSETFROM:+0200
TZOFFSETTO:+0100
TZNAME:CET
DTSTART:20251026T010000
END:STANDARD
BEGIN:DAYLIGHT
TZOFFSETFROM:+0100
TZOFFSETTO:+0200
TZNAME:CEST
DTSTART:20260329T010000
END:DAYLIGHT
BEGIN:STANDARD
TZOFFSETFROM:+0200
TZOFFSETTO:+0100
TZNAME:CET
DTSTART:20261025T010000
END:STANDARD
BEGIN:DAYLIGHT
TZOFFSETFROM:+0100
TZOFFSETTO:+0200
TZNAME:CEST
DTSTART:20270328T010000
END:DAYLIGHT
BEGIN:STANDARD
TZOFFSETFROM:+0200
TZOFFSETTO:+0100
TZNAME:CET
DTSTART:20271031T010000
END:STANDARD
END:VTIMEZONE
BEGIN:VEVENT
DTSTART;TZID=Europe/Rome:20260326T203000
DTEND;TZID=Europe/Rome:20260326T223000
DTSTAMP:20260423T133532
CREATED:20260304T202248Z
LAST-MODIFIED:20260304T202249Z
UID:1667-1774557000-1774564200@www.tralaltro.it
SUMMARY:Cineforum - 26 Marzo
DESCRIPTION:Il cineforum è uno spazio di incontro e confronto organizzato a cura del Gruppo Senior che unisce la visione collettiva di un film a un momento di dialogo e riflessione condivisa. Non è solo “andare al cinema”\, ma vivere insieme l’esperienza del racconto sullo schermo\, scambiando opinioni\, emozioni e punti di vista. \nAttraverso film d’autore\, documentari o pellicole indipendenti\, il cineforum diventa un’occasione per approfondire tematiche sociali\, culturali e politiche\, stimolare la discussione critica e creare connessioni tra le persone. \nChe tu sia appassionatə di cinema o semplicemente curiosə di scoprire nuove storie\, il cineforum è un luogo aperto e inclusivo dove ogni voce arricchisce il dibattito.
URL:https://www.tralaltro.it/evento/cineforum-26-marzo/
LOCATION:TRALALTRO\, Corso Garibaldi 41\, Padova\, Italy
CATEGORIES:Gruppo Senior LGBTQIA+,Per Tuttə
ATTACH;FMTTYPE=image/png:https://www.tralaltro.it/wp-content/uploads/2025/09/cineforum-senior.png
END:VEVENT
END:VCALENDAR