BEGIN:VCALENDAR
VERSION:2.0
PRODID:-//Arcigay Tralaltro Padova APS - ECPv6.15.20//NONSGML v1.0//EN
CALSCALE:GREGORIAN
METHOD:PUBLISH
X-WR-CALNAME:Arcigay Tralaltro Padova APS
X-ORIGINAL-URL:https://www.tralaltro.it
X-WR-CALDESC:Eventi per Arcigay Tralaltro Padova APS
REFRESH-INTERVAL;VALUE=DURATION:PT1H
X-Robots-Tag:noindex
X-PUBLISHED-TTL:PT1H
BEGIN:VTIMEZONE
TZID:Europe/Rome
BEGIN:DAYLIGHT
TZOFFSETFROM:+0100
TZOFFSETTO:+0200
TZNAME:CEST
DTSTART:20240331T010000
END:DAYLIGHT
BEGIN:STANDARD
TZOFFSETFROM:+0200
TZOFFSETTO:+0100
TZNAME:CET
DTSTART:20241027T010000
END:STANDARD
BEGIN:DAYLIGHT
TZOFFSETFROM:+0100
TZOFFSETTO:+0200
TZNAME:CEST
DTSTART:20250330T010000
END:DAYLIGHT
BEGIN:STANDARD
TZOFFSETFROM:+0200
TZOFFSETTO:+0100
TZNAME:CET
DTSTART:20251026T010000
END:STANDARD
BEGIN:DAYLIGHT
TZOFFSETFROM:+0100
TZOFFSETTO:+0200
TZNAME:CEST
DTSTART:20260329T010000
END:DAYLIGHT
BEGIN:STANDARD
TZOFFSETFROM:+0200
TZOFFSETTO:+0100
TZNAME:CET
DTSTART:20261025T010000
END:STANDARD
BEGIN:DAYLIGHT
TZOFFSETFROM:+0100
TZOFFSETTO:+0200
TZNAME:CEST
DTSTART:20270328T010000
END:DAYLIGHT
BEGIN:STANDARD
TZOFFSETFROM:+0200
TZOFFSETTO:+0100
TZNAME:CET
DTSTART:20271031T010000
END:STANDARD
END:VTIMEZONE
BEGIN:VEVENT
DTSTART;TZID=Europe/Rome:20260411T170000
DTEND;TZID=Europe/Rome:20260411T190000
DTSTAMP:20260421T182556
CREATED:20260327T090003Z
LAST-MODIFIED:20260326T171257Z
UID:1708-1775926800-1775934000@www.tralaltro.it
SUMMARY:Tral'Arte
DESCRIPTION:🎨 Un pomeriggio per disegnare\, dipingere\, sferruzzare\, fare crochet\, chiacchierare e stare insieme in un ambiente accogliente e rilassato. \n📍Arcigay Tralaltro Padova – Corso Garibaldi 41\n🗓️ Sabato 11 Aprileore 17.00 \nPorta i tuoi materiali oppure vieni solo con la voglia di lasciarti ispirare: qui l’arte è libertà\, cura e condivisione.
URL:https://www.tralaltro.it/evento/tralarte-aprile/
LOCATION:TRALALTRO\, Corso Garibaldi 41\, Padova\, Italy
CATEGORIES:Tral’Arte
ATTACH;FMTTYPE=image/png:https://www.tralaltro.it/wp-content/uploads/2025/09/TralArte-11-ottobre.png
ORGANIZER;CN="Ilenia Pennini":MAILTO:ilenia.pennini@tralaltro.it
END:VEVENT
BEGIN:VEVENT
DTSTART;TZID=Europe/Rome:20260321T170000
DTEND;TZID=Europe/Rome:20260321T190000
DTSTAMP:20260421T182556
CREATED:20260304T201452Z
LAST-MODIFIED:20260304T201452Z
UID:1665-1774112400-1774119600@www.tralaltro.it
SUMMARY:Tral'Arte
DESCRIPTION:🎨 Un pomeriggio per disegnare\, dipingere\, sferruzzare\, fare crochet\, chiacchierare e stare insieme in un ambiente accogliente e rilassato. \n📍Arcigay Tralaltro Padova – Corso Garibaldi 41\n🗓️ Sabato 21 Marzo ore 17.00 \nPorta i tuoi materiali oppure vieni solo con la voglia di lasciarti ispirare: qui l’arte è libertà\, cura e condivisione.
URL:https://www.tralaltro.it/evento/tralarte-2/
LOCATION:TRALALTRO\, Corso Garibaldi 41\, Padova\, Italy
CATEGORIES:Tral’Arte
ATTACH;FMTTYPE=image/png:https://www.tralaltro.it/wp-content/uploads/2025/09/TralArte-11-ottobre.png
ORGANIZER;CN="Ilenia Pennini":MAILTO:ilenia.pennini@tralaltro.it
END:VEVENT
BEGIN:VEVENT
DTSTART;TZID=Europe/Rome:20260307T170000
DTEND;TZID=Europe/Rome:20260307T190000
DTSTAMP:20260421T182556
CREATED:20260304T201326Z
LAST-MODIFIED:20260304T201327Z
UID:1663-1772902800-1772910000@www.tralaltro.it
SUMMARY:Tral'Arte
DESCRIPTION:🎨 Un pomeriggio per disegnare\, dipingere\, sferruzzare\, fare crochet\, chiacchierare e stare insieme in un ambiente accogliente e rilassato. \n📍Arcigay Tralaltro Padova – Corso Garibaldi 41\n🗓️ Sabato 7 Marzo ore 17.00 \nPorta i tuoi materiali oppure vieni solo con la voglia di lasciarti ispirare: qui l’arte è libertà\, cura e condivisione.
URL:https://www.tralaltro.it/evento/tralarte/
LOCATION:TRALALTRO\, Corso Garibaldi 41\, Padova\, Italy
CATEGORIES:Tral’Arte
ATTACH;FMTTYPE=image/png:https://www.tralaltro.it/wp-content/uploads/2025/09/TralArte-11-ottobre.png
ORGANIZER;CN="Ilenia Pennini":MAILTO:ilenia.pennini@tralaltro.it
END:VEVENT
BEGIN:VEVENT
DTSTART;TZID=Europe/Rome:20260124T170000
DTEND;TZID=Europe/Rome:20260124T170000
DTSTAMP:20260421T182556
CREATED:20260106T152733Z
LAST-MODIFIED:20260106T152733Z
UID:1556-1769274000-1769274000@www.tralaltro.it
SUMMARY:Tral'arte 24 gennaio
DESCRIPTION:Un pomeriggio per disegnare\, dipingere\, sferruzzare\, fare crochet\, chiacchierare e stare insieme in un ambiente accogliente e rilassato. \nArcigay Tralaltro Padova – Corso Garibaldi 41Sabato ore 17.00 \nPorta i tuoi materiali oppure vieni solo con la voglia di lasciarti ispirare: qui l’arte è libertà\, cura e condivisione.
URL:https://www.tralaltro.it/evento/tralarte-24-gennaio/
LOCATION:TRALALTRO\, Corso Garibaldi 41\, Padova\, Italy
CATEGORIES:Tral’Arte
ATTACH;FMTTYPE=image/png:https://www.tralaltro.it/wp-content/uploads/2025/09/Tralarte-25-ottobre.png
ORGANIZER;CN="Ilenia Pennini":MAILTO:ilenia.pennini@tralaltro.it
END:VEVENT
BEGIN:VEVENT
DTSTART;TZID=Europe/Rome:20260110T170000
DTEND;TZID=Europe/Rome:20260110T170000
DTSTAMP:20260421T182556
CREATED:20260106T152457Z
LAST-MODIFIED:20260109T223446Z
UID:1554-1768064400-1768064400@www.tralaltro.it
SUMMARY:Tral'arte 10 gennaio
DESCRIPTION:Un pomeriggio per disegnare\, dipingere\, sferruzzare\, fare crochet\, chiacchierare e stare insieme in un ambiente accogliente e rilassato. \nArcigay Tralaltro Padova – Corso Garibaldi 41Sabato 10 gennaio ore 17.00 \nPorta i tuoi materiali oppure vieni solo con la voglia di lasciarti ispirare: qui l’arte è libertà\, cura e condivisione.
URL:https://www.tralaltro.it/evento/tralarte-10-gennaio/
LOCATION:TRALALTRO\, Corso Garibaldi 41\, Padova\, Italy
CATEGORIES:Tral’Arte
ATTACH;FMTTYPE=image/png:https://www.tralaltro.it/wp-content/uploads/2025/09/TralArte-11-ottobre.png
ORGANIZER;CN="Ilenia Pennini":MAILTO:ilenia.pennini@tralaltro.it
END:VEVENT
BEGIN:VEVENT
DTSTART;TZID=Europe/Rome:20251220T170000
DTEND;TZID=Europe/Rome:20251220T200000
DTSTAMP:20260421T182556
CREATED:20251126T144058Z
LAST-MODIFIED:20251126T152156Z
UID:1529-1766250000-1766260800@www.tralaltro.it
SUMMARY:Tral’Arte 20 Dicembre
DESCRIPTION:Un pomeriggio per disegnare\, dipingere\, sferruzzare\, fare crochet\, chiacchierare e stare insieme in un ambiente accogliente e rilassato. Arcigay Tralaltro Padova – Corso Garibaldi 41 Sabato 20 DICEMBRE ore 17.00 Porta i tuoi materiali oppure vieni solo con la voglia di lasciarti ispirare: qui l’arte è libertà\, cura e condivisione.
URL:https://www.tralaltro.it/evento/tralarte-20-dicembre/
LOCATION:TRALALTRO\, Corso Garibaldi 41\, Padova\, Italy
CATEGORIES:Tral’Arte
ATTACH;FMTTYPE=image/png:https://www.tralaltro.it/wp-content/uploads/2025/09/TralArte-11-ottobre.png
ORGANIZER;CN="Ilenia Pennini":MAILTO:ilenia.pennini@tralaltro.it
END:VEVENT
BEGIN:VEVENT
DTSTART;TZID=Europe/Rome:20251206T170000
DTEND;TZID=Europe/Rome:20251206T200000
DTSTAMP:20260421T182556
CREATED:20251125T213743Z
LAST-MODIFIED:20251126T104925Z
UID:1519-1765040400-1765051200@www.tralaltro.it
SUMMARY:Tral’Arte 6 Dicembre
DESCRIPTION:Un pomeriggio per disegnare\, dipingere\, sferruzzare\, fare crochet\, chiacchierare e stare insieme in un ambiente accogliente e rilassato. \nArcigay Tralaltro Padova – Corso Garibaldi 41Sabato 06 DICEMBRE ore 17.00 \nPorta i tuoi materiali oppure vieni solo con la voglia di lasciarti ispirare: qui l’arte è libertà\, cura e condivisione.
URL:https://www.tralaltro.it/evento/1519/
LOCATION:TRALALTRO\, Corso Garibaldi 41\, Padova\, Italy
CATEGORIES:Tral’Arte
ATTACH;FMTTYPE=image/png:https://www.tralaltro.it/wp-content/uploads/2025/09/Tralarte-25-ottobre.png
ORGANIZER;CN="Ilenia Pennini":MAILTO:ilenia.pennini@tralaltro.it
END:VEVENT
BEGIN:VEVENT
DTSTART;TZID=Europe/Rome:20251122T170000
DTEND;TZID=Europe/Rome:20251122T200000
DTSTAMP:20260421T182556
CREATED:20251029T105838Z
LAST-MODIFIED:20251029T110250Z
UID:1418-1763830800-1763841600@www.tralaltro.it
SUMMARY:Tral’Arte 22 Novembre
DESCRIPTION:Un pomeriggio per disegnare\, dipingere\, sferruzzare\, fare crochet\, chiacchierare e stare insieme in un ambiente accogliente e rilassato. \nArcigay Tralaltro Padova – Corso Garibaldi 41Sabato 22 Novembre ore 17.00 \nPorta i tuoi materiali oppure vieni solo con la voglia di lasciarti ispirare: qui l’arte è libertà\, cura e condivisione.
URL:https://www.tralaltro.it/evento/tralarte-22-novembre/
LOCATION:TRALALTRO\, Corso Garibaldi 41\, Padova\, Italy
CATEGORIES:Tral’Arte
ATTACH;FMTTYPE=image/png:https://www.tralaltro.it/wp-content/uploads/2025/09/TralArte-11-ottobre.png
ORGANIZER;CN="Ilenia Pennini":MAILTO:ilenia.pennini@tralaltro.it
END:VEVENT
BEGIN:VEVENT
DTSTART;TZID=Europe/Rome:20251108T170000
DTEND;TZID=Europe/Rome:20251108T200000
DTSTAMP:20260421T182556
CREATED:20251029T081644Z
LAST-MODIFIED:20251029T103326Z
UID:1413-1762621200-1762632000@www.tralaltro.it
SUMMARY:Tral’Arte 8 Novembre
DESCRIPTION:Un pomeriggio per disegnare\, dipingere\, sferruzzare\, fare crochet\, chiacchierare e stare insieme in un ambiente accogliente e rilassato. \nArcigay Tralaltro Padova – Corso Garibaldi 41Sabato 8 Novembre ore 17.00 \nPorta i tuoi materiali oppure vieni solo con la voglia di lasciarti ispirare: qui l’arte è libertà\, cura e condivisione.
URL:https://www.tralaltro.it/evento/tralarte-10-novembre/
LOCATION:TRALALTRO\, Corso Garibaldi 41\, Padova\, Italy
CATEGORIES:Tral’Arte
ATTACH;FMTTYPE=image/png:https://www.tralaltro.it/wp-content/uploads/2025/09/Tralarte-25-ottobre.png
ORGANIZER;CN="Ilenia Pennini":MAILTO:ilenia.pennini@tralaltro.it
END:VEVENT
BEGIN:VEVENT
DTSTART;TZID=Europe/Rome:20251025T170000
DTEND;TZID=Europe/Rome:20251025T190000
DTSTAMP:20260421T182556
CREATED:20250930T084725Z
LAST-MODIFIED:20250930T084725Z
UID:1291-1761411600-1761418800@www.tralaltro.it
SUMMARY:Tral'arte 25 ottobre
DESCRIPTION:Un pomeriggio per disegnare\, dipingere\, sferruzzare\, fare crochet\, chiacchierare e stare insieme in un ambiente accogliente e rilassato. \nArcigay Tralaltro Padova – Corso Garibaldi 41Sabato 25 ottobre ore 17.00 \nPorta i tuoi materiali oppure vieni solo con la voglia di lasciarti ispirare: qui l’arte è libertà\, cura e condivisione.
URL:https://www.tralaltro.it/evento/tralarte-25-ottobre/
LOCATION:TRALALTRO\, Corso Garibaldi 41\, Padova\, Italy
CATEGORIES:Tral’Arte
ATTACH;FMTTYPE=image/png:https://www.tralaltro.it/wp-content/uploads/2025/09/Tralarte-25-ottobre.png
ORGANIZER;CN="Ilenia Pennini":MAILTO:ilenia.pennini@tralaltro.it
END:VEVENT
BEGIN:VEVENT
DTSTART;TZID=Europe/Rome:20251011T170000
DTEND;TZID=Europe/Rome:20251011T190000
DTSTAMP:20260421T182556
CREATED:20250930T083744Z
LAST-MODIFIED:20250930T083744Z
UID:1288-1760202000-1760209200@www.tralaltro.it
SUMMARY:Tral'Arte 11 ottobre
DESCRIPTION:Un pomeriggio per disegnare\, dipingere\, sferruzzare\, fare crochet\, chiacchierare e stare insieme in un ambiente accogliente e rilassato. \nArcigay Tralaltro Padova – Corso Garibaldi 41Sabato 11 ottobre ore 17.00 \nPorta i tuoi materiali oppure vieni solo con la voglia di lasciarti ispirare: qui l’arte è libertà\, cura e condivisione.
URL:https://www.tralaltro.it/evento/tralarte-11-ottobre/
LOCATION:TRALALTRO\, Corso Garibaldi 41\, Padova\, Italy
CATEGORIES:Tral’Arte
ATTACH;FMTTYPE=image/png:https://www.tralaltro.it/wp-content/uploads/2025/09/TralArte-11-ottobre.png
ORGANIZER;CN="Ilenia Pennini":MAILTO:ilenia.pennini@tralaltro.it
END:VEVENT
END:VCALENDAR