BEGIN:VCALENDAR
VERSION:2.0
PRODID:-//Arcigay Tralaltro Padova APS - ECPv6.15.20//NONSGML v1.0//EN
CALSCALE:GREGORIAN
METHOD:PUBLISH
X-ORIGINAL-URL:https://www.tralaltro.it
X-WR-CALDESC:Eventi per Arcigay Tralaltro Padova APS
REFRESH-INTERVAL;VALUE=DURATION:PT1H
X-Robots-Tag:noindex
X-PUBLISHED-TTL:PT1H
BEGIN:VTIMEZONE
TZID:Europe/Rome
BEGIN:DAYLIGHT
TZOFFSETFROM:+0100
TZOFFSETTO:+0200
TZNAME:CEST
DTSTART:20240331T010000
END:DAYLIGHT
BEGIN:STANDARD
TZOFFSETFROM:+0200
TZOFFSETTO:+0100
TZNAME:CET
DTSTART:20241027T010000
END:STANDARD
BEGIN:DAYLIGHT
TZOFFSETFROM:+0100
TZOFFSETTO:+0200
TZNAME:CEST
DTSTART:20250330T010000
END:DAYLIGHT
BEGIN:STANDARD
TZOFFSETFROM:+0200
TZOFFSETTO:+0100
TZNAME:CET
DTSTART:20251026T010000
END:STANDARD
BEGIN:DAYLIGHT
TZOFFSETFROM:+0100
TZOFFSETTO:+0200
TZNAME:CEST
DTSTART:20260329T010000
END:DAYLIGHT
BEGIN:STANDARD
TZOFFSETFROM:+0200
TZOFFSETTO:+0100
TZNAME:CET
DTSTART:20261025T010000
END:STANDARD
BEGIN:DAYLIGHT
TZOFFSETFROM:+0100
TZOFFSETTO:+0200
TZNAME:CEST
DTSTART:20270328T010000
END:DAYLIGHT
BEGIN:STANDARD
TZOFFSETFROM:+0200
TZOFFSETTO:+0100
TZNAME:CET
DTSTART:20271031T010000
END:STANDARD
END:VTIMEZONE
BEGIN:VEVENT
DTSTART;TZID=Europe/Rome:20260329T170000
DTEND;TZID=Europe/Rome:20260329T190000
DTSTAMP:20260423T131627
CREATED:20260304T195218Z
LAST-MODIFIED:20260304T195219Z
UID:1650-1774803600-1774810800@www.tralaltro.it
SUMMARY:Testing Time
DESCRIPTION:Testing time 🎗 Test HIV/sifilide rapido\, gratuito anonimo. \n🫂Prendersi cura di sé non è mai stato così semplice.\n📝Vieni a farti un check. \n📍Arcigay Tralaltro Padova\n🗓️ Domenica 29 Marzo dalle ore 17 \n❓Siamo qui anche per rispondere a dubbi e domande su salute\, sessualità\, servizi.\nAttività svolta nell’ambito del progetto WeTest in collaborazione con ARCO.
URL:https://www.tralaltro.it/evento/testing-time-2/
LOCATION:TRALALTRO\, Corso Garibaldi 41\, Padova\, Italy
CATEGORIES:Per Tuttə
ATTACH;FMTTYPE=image/png:https://www.tralaltro.it/wp-content/uploads/2025/11/test-hiv-sifilide-padova.png
ORGANIZER;CN="Ilenia Pennini":MAILTO:ilenia.pennini@tralaltro.it
END:VEVENT
BEGIN:VEVENT
DTSTART;TZID=Europe/Rome:20260326T203000
DTEND;TZID=Europe/Rome:20260326T223000
DTSTAMP:20260423T131627
CREATED:20260304T202248Z
LAST-MODIFIED:20260304T202249Z
UID:1667-1774557000-1774564200@www.tralaltro.it
SUMMARY:Cineforum - 26 Marzo
DESCRIPTION:Il cineforum è uno spazio di incontro e confronto organizzato a cura del Gruppo Senior che unisce la visione collettiva di un film a un momento di dialogo e riflessione condivisa. Non è solo “andare al cinema”\, ma vivere insieme l’esperienza del racconto sullo schermo\, scambiando opinioni\, emozioni e punti di vista. \nAttraverso film d’autore\, documentari o pellicole indipendenti\, il cineforum diventa un’occasione per approfondire tematiche sociali\, culturali e politiche\, stimolare la discussione critica e creare connessioni tra le persone. \nChe tu sia appassionatə di cinema o semplicemente curiosə di scoprire nuove storie\, il cineforum è un luogo aperto e inclusivo dove ogni voce arricchisce il dibattito.
URL:https://www.tralaltro.it/evento/cineforum-26-marzo/
LOCATION:TRALALTRO\, Corso Garibaldi 41\, Padova\, Italy
CATEGORIES:Gruppo Senior LGBTQIA+,Per Tuttə
ATTACH;FMTTYPE=image/png:https://www.tralaltro.it/wp-content/uploads/2025/09/cineforum-senior.png
END:VEVENT
BEGIN:VEVENT
DTSTART;TZID=Europe/Rome:20260122T203000
DTEND;TZID=Europe/Rome:20260122T223000
DTSTAMP:20260423T131627
CREATED:20260107T112504Z
LAST-MODIFIED:20260107T112505Z
UID:1589-1769113800-1769121000@www.tralaltro.it
SUMMARY:Cineforum – 22 gennaio
DESCRIPTION:Il cineforum è uno spazio di incontro e confronto organizzato a cura del Gruppo Senior che unisce la visione collettiva di un film a un momento di dialogo e riflessione condivisa. Non è solo “andare al cinema”\, ma vivere insieme l’esperienza del racconto sullo schermo\, scambiando opinioni\, emozioni e punti di vista. \nAttraverso film d’autore\, documentari o pellicole indipendenti\, il cineforum diventa un’occasione per approfondire tematiche sociali\, culturali e politiche\, stimolare la discussione critica e creare connessioni tra le persone. \nChe tu sia appassionatə di cinema o semplicemente curiosə di scoprire nuove storie\, il cineforum è un luogo aperto e inclusivo dove ogni voce arricchisce il dibattito.
URL:https://www.tralaltro.it/evento/cineforum-22-gennaio/
LOCATION:TRALALTRO\, Corso Garibaldi 41\, Padova\, Italy
CATEGORIES:Per Tuttə
ATTACH;FMTTYPE=image/png:https://www.tralaltro.it/wp-content/uploads/2025/09/cineforum-senior.png
END:VEVENT
BEGIN:VEVENT
DTSTART;TZID=Europe/Rome:20260118T160000
DTEND;TZID=Europe/Rome:20260118T190000
DTSTAMP:20260423T131627
CREATED:20260106T153712Z
LAST-MODIFIED:20260106T153712Z
UID:1558-1768752000-1768762800@www.tralaltro.it
SUMMARY:Testing time
DESCRIPTION:Test HIV/sifilide rapido anonimo gratuito \nPrendersi cura di sé non è mai stato così semplice.Test HIV/sifilide rapido\, gratuito anonimo.Vieni a farti un check. \nSiamo qui anche per rispondere a dubbi e domande su salute\, sessualità\, servizi.
URL:https://www.tralaltro.it/evento/testing-time/
LOCATION:TRALALTRO\, Corso Garibaldi 41\, Padova\, Italy
CATEGORIES:Per Tuttə
ATTACH;FMTTYPE=image/png:https://www.tralaltro.it/wp-content/uploads/2025/11/test-hiv-sifilide-padova.png
ORGANIZER;CN="Ilenia Pennini":MAILTO:ilenia.pennini@tralaltro.it
END:VEVENT
BEGIN:VEVENT
DTSTART;TZID=Europe/Rome:20260108T203000
DTEND;TZID=Europe/Rome:20260108T223000
DTSTAMP:20260423T131627
CREATED:20260107T110031Z
LAST-MODIFIED:20260107T112214Z
UID:1583-1767904200-1767911400@www.tralaltro.it
SUMMARY:Cineforum – 8 gennaio
DESCRIPTION:Il cineforum è uno spazio di incontro e confronto organizzato a cura del Gruppo Senior che unisce la visione collettiva di un film a un momento di dialogo e riflessione condivisa. Non è solo “andare al cinema”\, ma vivere insieme l’esperienza del racconto sullo schermo\, scambiando opinioni\, emozioni e punti di vista. \nAttraverso film d’autore\, documentari o pellicole indipendenti\, il cineforum diventa un’occasione per approfondire tematiche sociali\, culturali e politiche\, stimolare la discussione critica e creare connessioni tra le persone. \nChe tu sia appassionatə di cinema o semplicemente curiosə di scoprire nuove storie\, il cineforum è un luogo aperto e inclusivo dove ogni voce arricchisce il dibattito.
URL:https://www.tralaltro.it/evento/cineforum-8-gennaio/
LOCATION:TRALALTRO\, Corso Garibaldi 41\, Padova\, Italy
CATEGORIES:Per Tuttə
ATTACH;FMTTYPE=image/png:https://www.tralaltro.it/wp-content/uploads/2025/09/cineforum-senior.png
END:VEVENT
BEGIN:VEVENT
DTSTART;TZID=Europe/Rome:20251130T160000
DTEND;TZID=Europe/Rome:20251130T180000
DTSTAMP:20260423T131627
CREATED:20251121T140044Z
LAST-MODIFIED:20251121T140427Z
UID:1471-1764518400-1764525600@www.tralaltro.it
SUMMARY:Testing Time - 30 Novembre dalle ore 16
DESCRIPTION:Test HIV/sifilide rapido anonimo gratuito \n🫂Prendersi cura di sé non è mai stato così semplice. \nTest HIV/sifilide rapido\, gratuito anonimo.\n📝Vieni a farti un check. \n📍Arcigay Tralaltro Padova\n🗓 Domenica 30 Novembre dalle ore 16 alle ore 18 \n❓Siamo qui anche per rispondere a dubbi e domande su salute\, sessualità\, servizi.
URL:https://www.tralaltro.it/evento/testing-time-30-novembre-dalle-ore-16/
LOCATION:TRALALTRO\, Corso Garibaldi 41\, Padova\, Italy
CATEGORIES:Per Tuttə
ATTACH;FMTTYPE=image/png:https://www.tralaltro.it/wp-content/uploads/2025/11/test-hiv-sifilide-padova.png
ORGANIZER;CN="Ilenia Pennini":MAILTO:ilenia.pennini@tralaltro.it
END:VEVENT
BEGIN:VEVENT
DTSTART;TZID=Europe/Rome:20251107T200000
DTEND;TZID=Europe/Rome:20251107T230000
DTSTAMP:20260423T131627
CREATED:20251028T232020Z
LAST-MODIFIED:20251105T155923Z
UID:1401-1762545600-1762556400@www.tralaltro.it
SUMMARY:Verso le elezioni regionali: diritti\, salute\, dignità
DESCRIPTION:Arcigay Tralaltro Padova incontra le persone candidate al Consiglio Regionale del Veneto \nConduce il giornalista e scrittore Ivan Grozny Compasso \nSaranno presenti: \nElena Ostanel (AVS)\nEleonora Guizzaro (PD)\nMattia Chinello (Pace Salute Lavoro – Rifondazione Comunista)\nSara Vanin (Civiche Venete)\nEdoardo Sinigaglia (Volt) \nSala Paladin – Palazzo Moroni\, PadovaVenerdì 7 novembre\, ore 20.00Ingresso libero \nInsieme alle persone candidate alle prossime elezioni regionali discuteremo i temi della piattaforma “Verso le elezioni regionali: diritti\, salute\, dignità”. \nParleremo di politiche concrete per una Regione che scelga la strada dei diritti\, della prevenzione\, della giustizia sociale e della tutela per tuttə.
URL:https://www.tralaltro.it/evento/elezioni-regionali-veneto/
LOCATION:Sala Paladin\, Palazzo Moroni\, Via del Municipio 1\, Padova\, Italy
CATEGORIES:Per Tuttə
ATTACH;FMTTYPE=image/jpeg:https://www.tralaltro.it/wp-content/uploads/2025/10/Elezioni-Regionali-2025.jpeg
ORGANIZER;CN="Ilenia Pennini":MAILTO:ilenia.pennini@tralaltro.it
END:VEVENT
BEGIN:VEVENT
DTSTART;TZID=Europe/Rome:20251023T203000
DTEND;TZID=Europe/Rome:20251023T223000
DTSTAMP:20260423T131627
CREATED:20250930T125341Z
LAST-MODIFIED:20250930T125341Z
UID:1331-1761251400-1761258600@www.tralaltro.it
SUMMARY:Cineforum - 23 Ottobre
DESCRIPTION:Cineforum\nGiovedì 23 Ottobre\ndalle ore 20.30\nCorso Garibaldi 41\nUn momento a cura del Gruppo Senior di incontro e confronto che unisce la visione collettiva di un film a una riflessione condivisa
URL:https://www.tralaltro.it/evento/cineforum-23-ottobre/
LOCATION:TRALALTRO\, Corso Garibaldi 41\, Padova\, Italy
CATEGORIES:Gruppo Senior LGBTQIA+,Per Tuttə
ATTACH;FMTTYPE=image/png:https://www.tralaltro.it/wp-content/uploads/2025/09/cineforum-senior.png
END:VEVENT
BEGIN:VEVENT
DTSTART;TZID=Europe/Rome:20251002T210000
DTEND;TZID=Europe/Rome:20251002T230000
DTSTAMP:20260423T131628
CREATED:20250930T100519Z
LAST-MODIFIED:20250930T101026Z
UID:1305-1759438800-1759446000@www.tralaltro.it
SUMMARY:Quir - Proiezione il 2 ottobre
DESCRIPTION:Un piccolo negozio a Palermo che negli anni ’70 diventa rifugio\, casa e palcoscenico per vite queer. Quir racconta la forza di chi ha costruito comunità e libertà in un tempo che voleva cancellarle\, lasciandoci un’eredità di orgoglio e resistenza. \n2 ottobre ore 21\nCinema Lux Padova \n \nGUARDA IL TRAILER \nMaggiori informazioni su Quir
URL:https://www.tralaltro.it/evento/quir-proiezione-il-2-ottobre/
LOCATION:Cinema Lux\, Viale Felice Cavallotti\, 9\, Padova\, 35124\, Italy
CATEGORIES:Per Tuttə
ATTACH;FMTTYPE=image/jpeg:https://www.tralaltro.it/wp-content/uploads/2025/09/quir-plakat-final-a3-scaled-1.jpg
ORGANIZER;CN="Ilenia Pennini":MAILTO:ilenia.pennini@tralaltro.it
END:VEVENT
BEGIN:VEVENT
DTSTART;TZID=Europe/Rome:20250919T183000
DTEND;TZID=Europe/Rome:20250919T223000
DTSTAMP:20260423T131628
CREATED:20250910T155154Z
LAST-MODIFIED:20250910T155300Z
UID:1073-1758306600-1758321000@www.tralaltro.it
SUMMARY:Aperitivo Apertura  19 settembre
DESCRIPTION:L’associazione Arcigay Tralaltro Padova darà il via alle attività con un aperitivo di apertura con il coro LGBTQIA+ Canone Inverso
URL:https://www.tralaltro.it/evento/aperitivo-apertura-19-settembre/
LOCATION:TRALALTRO\, Corso Garibaldi 41\, Padova\, Italy
CATEGORIES:Per Tuttə
ATTACH;FMTTYPE=image/png:https://www.tralaltro.it/wp-content/uploads/2025/09/coro.png
ORGANIZER;CN="Ilenia Pennini":MAILTO:ilenia.pennini@tralaltro.it
END:VEVENT
END:VCALENDAR