BEGIN:VCALENDAR
VERSION:2.0
PRODID:-//Arcigay Tralaltro Padova APS - ECPv6.15.20//NONSGML v1.0//EN
CALSCALE:GREGORIAN
METHOD:PUBLISH
X-WR-CALNAME:Arcigay Tralaltro Padova APS
X-ORIGINAL-URL:https://www.tralaltro.it
X-WR-CALDESC:Eventi per Arcigay Tralaltro Padova APS
REFRESH-INTERVAL;VALUE=DURATION:PT1H
X-Robots-Tag:noindex
X-PUBLISHED-TTL:PT1H
BEGIN:VTIMEZONE
TZID:Europe/Rome
BEGIN:DAYLIGHT
TZOFFSETFROM:+0100
TZOFFSETTO:+0200
TZNAME:CEST
DTSTART:20240331T010000
END:DAYLIGHT
BEGIN:STANDARD
TZOFFSETFROM:+0200
TZOFFSETTO:+0100
TZNAME:CET
DTSTART:20241027T010000
END:STANDARD
BEGIN:DAYLIGHT
TZOFFSETFROM:+0100
TZOFFSETTO:+0200
TZNAME:CEST
DTSTART:20250330T010000
END:DAYLIGHT
BEGIN:STANDARD
TZOFFSETFROM:+0200
TZOFFSETTO:+0100
TZNAME:CET
DTSTART:20251026T010000
END:STANDARD
BEGIN:DAYLIGHT
TZOFFSETFROM:+0100
TZOFFSETTO:+0200
TZNAME:CEST
DTSTART:20260329T010000
END:DAYLIGHT
BEGIN:STANDARD
TZOFFSETFROM:+0200
TZOFFSETTO:+0100
TZNAME:CET
DTSTART:20261025T010000
END:STANDARD
END:VTIMEZONE
BEGIN:VEVENT
DTSTART;TZID=Europe/Rome:20250918T193000
DTEND;TZID=Europe/Rome:20250918T210000
DTSTAMP:20260423T230911
CREATED:20250829T165340Z
LAST-MODIFIED:20250904T164400Z
UID:46-1758223800-1758229200@www.tralaltro.it
SUMMARY:L’Altrove - giovedì 18 settembre
DESCRIPTION:🍁 Inizia la nuova stagione – giovedì 18 settembre 🍁 🌟 Nuovo data per L’Altrove\, la serata ludica di Arcigay Tralaltro Padova: un’occasione per incontrarsi\, giocare\, ridere e condividere momenti spensierati insieme. Le tipologie di giochi che animeranno la serata includono: ♦️Giochi di carte 🎲 Giochi da tavolo classici 🎴 Giochi cooperativi e strategici 🎉Party game 🎯… e molto altro. 🇯🇵 Oltre al gioco\, ci sarà spazio anche per condividere le tue passioni: anime\, manga\, videogiochi\, film\, serie tv e tutto ciò che ti emoziona. 🕹️ 👉 Se hai dei giochi che ami\, portali con te: ogni proposta è benvenuta! Il nostro spazio è aperto a chiunque voglia partecipare\, in un ambiente inclusivo\, sicuro e accogliente. 📍 Vi aspettiamo Giovedì 18 settembre\, dalle 19:30 presso la sede di Arcigay Tralaltro Padova\, in Corso Garibaldi 41\, Padova.
URL:https://www.tralaltro.it/evento/laltrove-giovedi-18-settembre/
LOCATION:TRALALTRO\, Corso Garibaldi 41\, Padova\, Italy
CATEGORIES:L'Altrove
ATTACH;FMTTYPE=image/png:https://www.tralaltro.it/wp-content/uploads/2025/08/altrove-18-settembre.png
ORGANIZER;CN="FDZ":MAILTO:altrove@tralaltro.it
END:VEVENT
BEGIN:VEVENT
DTSTART;TZID=Europe/Rome:20250914T173000
DTEND;TZID=Europe/Rome:20250914T193000
DTSTAMP:20260423T230911
CREATED:20250910T122420Z
LAST-MODIFIED:20250910T122514Z
UID:1046-1757871000-1757878200@www.tralaltro.it
SUMMARY:Gruppo Senior LGBTQIA+ Padova - DOMENICA 14 SETTEMBRE
DESCRIPTION:Gruppo Senior LGBTQIA+ Padova – I RICORDI DEL NOSTRO GRUPPO\, DEL PASSATO ED ENTUSIASMANTI ASPETTATIVE PER IL FUTURO\nHai più di 50 anni e desideri incontrare nuove persone\, condividere esperienze e parlare liberamente di tematiche legate all’essere una persona LGBTQIA+ matura? \nIl Gruppo Senior di Arcigay Tralaltro Padova ti invita al nostro incontro mensile: uno spazio accogliente\, informale e intergenerazionale\, dove confrontarsi su vissuti\, memoria\, diritti\, relazioni e quotidianità. \n📍 Dove: sede di Arcigay Tralaltro Padova – Corso Giuseppe Garibaldi 41\, Padova🗓 Quando: DOMENICA 14 SETTEMBRE ORE 17.30 \nUn luogo dove sentirsi ascoltatə\, proporre argomenti di discussione e stringere nuove amicizie\, senza pressioni né giudizi. \nTi aspettiamo\, passa a trovarci! \n📞 Telefono: 392 186 7057📧 Email: senior@tralaltro.it
URL:https://www.tralaltro.it/evento/gruppo-senior-domenica-14-settembre/
LOCATION:TRALALTRO\, Corso Garibaldi 41\, Padova\, Italy
CATEGORIES:Gruppo Senior LGBTQIA+
ATTACH;FMTTYPE=image/png:https://www.tralaltro.it/wp-content/uploads/2025/09/senior-114-settembre.png
END:VEVENT
END:VCALENDAR