BEGIN:VCALENDAR
VERSION:2.0
PRODID:-//Arcigay Tralaltro Padova APS - ECPv6.15.20//NONSGML v1.0//EN
CALSCALE:GREGORIAN
METHOD:PUBLISH
X-WR-CALNAME:Arcigay Tralaltro Padova APS
X-ORIGINAL-URL:https://www.tralaltro.it
X-WR-CALDESC:Eventi per Arcigay Tralaltro Padova APS
REFRESH-INTERVAL;VALUE=DURATION:PT1H
X-Robots-Tag:noindex
X-PUBLISHED-TTL:PT1H
BEGIN:VTIMEZONE
TZID:Europe/Rome
BEGIN:DAYLIGHT
TZOFFSETFROM:+0100
TZOFFSETTO:+0200
TZNAME:CEST
DTSTART:20240331T010000
END:DAYLIGHT
BEGIN:STANDARD
TZOFFSETFROM:+0200
TZOFFSETTO:+0100
TZNAME:CET
DTSTART:20241027T010000
END:STANDARD
BEGIN:DAYLIGHT
TZOFFSETFROM:+0100
TZOFFSETTO:+0200
TZNAME:CEST
DTSTART:20250330T010000
END:DAYLIGHT
BEGIN:STANDARD
TZOFFSETFROM:+0200
TZOFFSETTO:+0100
TZNAME:CET
DTSTART:20251026T010000
END:STANDARD
BEGIN:DAYLIGHT
TZOFFSETFROM:+0100
TZOFFSETTO:+0200
TZNAME:CEST
DTSTART:20260329T010000
END:DAYLIGHT
BEGIN:STANDARD
TZOFFSETFROM:+0200
TZOFFSETTO:+0100
TZNAME:CET
DTSTART:20261025T010000
END:STANDARD
END:VTIMEZONE
BEGIN:VEVENT
DTSTART;TZID=Europe/Rome:20251104T183000
DTEND;TZID=Europe/Rome:20251104T223000
DTSTAMP:20260425T185440
CREATED:20251028T213303Z
LAST-MODIFIED:20251028T213304Z
UID:1368-1762281000-1762295400@www.tralaltro.it
SUMMARY:Gruppo Giovani - 4 Novembre - Antispecismo
DESCRIPTION:🐾 Antispecismo 🌱 \nHai mai sentito parlare di antispecismo?\nSpesso si pensa subito a “chi è vegan”\, ma in realtà è molto di più.\nEssere antispecistə significa riconoscere che tutte le forme di vita — umane e non umane — meritano rispetto\, libertà e dignità. \nL’antispecismo è una prospettiva politica e sociale intersezionale\, che collega la liberazione animale alla giustizia ambientale\, alla queerness e al femminismo.\nÈ una lotta contro le gerarchie e le oppressioni che attraversano corpi\, specie e identità. \nNe parleremo insieme alla nostra attivista queer e antispecista Annachiara Chemello (@‌naki.earth). \n📅Martedì 04 novembre alle ore 18:30\n📍 Corso Garibaldi 41\, Padova \nTi aspettiamo per scoprire come le lotte per la libertà si intrecciano — umane e non umane\, queer e antispeciste. \nSeguirà un momento conviviale in cui mangeremo insieme: puoi portarti la schiscetta da casa o ordinare insieme a noi una pizza 🍕 \nNon serve essere già tesseratɜ: chiunque abbia voglia di avvicinarsi al gruppo è benvenutə ✨
URL:https://www.tralaltro.it/evento/gruppo-giovani-4-novembre-antispecismo/
LOCATION:TRALALTRO\, Corso Garibaldi 41\, Padova\, Italy
CATEGORIES:Gruppo Giovani
ATTACH;FMTTYPE=image/png:https://www.tralaltro.it/wp-content/uploads/2025/10/antispecismo.png
END:VEVENT
BEGIN:VEVENT
DTSTART;TZID=Europe/Rome:20251105T203000
DTEND;TZID=Europe/Rome:20251105T223000
DTSTAMP:20260425T185440
CREATED:20251028T224526Z
LAST-MODIFIED:20251028T225257Z
UID:1386-1762374600-1762381800@www.tralaltro.it
SUMMARY:Gruppo Millenial - 5 novembre - crisi abitativa: uno sguardo LGBQTIA+
DESCRIPTION:Trovare casa è diventato sempre più complicato\, ma cosa succede se fai parte di una minoranza di genere o sessuale? In questo incontro\, esploreremo le sfide che le persone LGBQTIA+ – e in particolare le persone T* – affrontano nella ricerca di un’abitazione. \n✏️ Con l’intervento di SAT\, che ci racconterà l’esperienza delle persone trans nel mercato degli affitti\, e di Pietro Bean\, consigliere con delega alla crisi abitativa\, cercheremo di capire come le politiche e le soluzioni possano rispondere a queste specifiche difficoltà. \n📍 Dove e quando? \n🗓 Mercoledì 5 Novembre \n🕢 Dalle 19:30 ci troviamo per una cena condivisa (porta qualcosa da casa e\, se vuoi\, condividi) \n🗣 Inizio incontro: 20:30 \n📍 Arcigay Tralaltro Padova – Corso Giuseppe Garibaldi 41 \n📩 Per dubbi o proposte: millennial@tralaltro.it \n…ma soprattutto: vieni a trovarci!
URL:https://www.tralaltro.it/evento/gruppo-millenial-5-novembre-crisi-abitativa-uno-sguardo-lgbqtia/
LOCATION:TRALALTRO\, Corso Garibaldi 41\, Padova\, Italy
CATEGORIES:Millennial
ATTACH;FMTTYPE=image/webp:https://www.tralaltro.it/wp-content/uploads/2025/10/bean.webp
ORGANIZER;CN="Danilo Stocchino":MAILTO:fuoridaigiri@tralaltro.it
END:VEVENT
BEGIN:VEVENT
DTSTART;TZID=Europe/Rome:20251106T203000
DTEND;TZID=Europe/Rome:20251106T230000
DTSTAMP:20260425T185440
CREATED:20251028T222453Z
LAST-MODIFIED:20251028T223004Z
UID:1377-1762461000-1762470000@www.tralaltro.it
SUMMARY:A Mente Fresca: con Massimo Prearo "Politiche europee per l’uguaglianza LGBTIQ: opportunità per l’Italia"
DESCRIPTION:Politiche europee per l’uguaglianza LGBTIQ: opportunità per l’Italia\n6 novembre ore 20.30 Arcigay Tralaltro Padova – Corso Garibaldi 41 \nL’Italia oggi è al 35° posto in Europa per tutela dei diritti LGBTQ+ (Rainbow Map) e secondo molti osservatori\, tra cui Alessandro Zan\, il governo potrebbe spingere verso politiche restrittive sul modello ungherese. \nCome reagire? Come trasformare le strategie UE 2020–2025 e i programmi come CERV in strumenti concreti di inclusione\, diritti e cittadinanza attiva in Italia? \nNe parliamo con Massimo Prearo\, per capire insieme ad associazioni\, enti locali e movimenti come attivarsi davvero. \nUn incontro per scoprire strumenti\, risorse e prospettive\, tra advocacy e progettualità europea.
URL:https://www.tralaltro.it/evento/a-mente-fresca-con-massimo-prearo-politiche-europee-per-luguaglianza-lgbtiq-opportunita-per-litalia/
LOCATION:TRALALTRO\, Corso Garibaldi 41\, Padova\, Italy
CATEGORIES:A Mente Fresca
ATTACH;FMTTYPE=image/jpeg:https://www.tralaltro.it/wp-content/uploads/2025/10/foto.jpeg
ORGANIZER;CN="Mattia Cortese Galdiolo":MAILTO:mattia.cortesegaldiolo@tralaltro.it
END:VEVENT
BEGIN:VEVENT
DTSTART;TZID=Europe/Rome:20251107T200000
DTEND;TZID=Europe/Rome:20251107T230000
DTSTAMP:20260425T185440
CREATED:20251028T232020Z
LAST-MODIFIED:20251105T155923Z
UID:1401-1762545600-1762556400@www.tralaltro.it
SUMMARY:Verso le elezioni regionali: diritti\, salute\, dignità
DESCRIPTION:Arcigay Tralaltro Padova incontra le persone candidate al Consiglio Regionale del Veneto \nConduce il giornalista e scrittore Ivan Grozny Compasso \nSaranno presenti: \nElena Ostanel (AVS)\nEleonora Guizzaro (PD)\nMattia Chinello (Pace Salute Lavoro – Rifondazione Comunista)\nSara Vanin (Civiche Venete)\nEdoardo Sinigaglia (Volt) \nSala Paladin – Palazzo Moroni\, PadovaVenerdì 7 novembre\, ore 20.00Ingresso libero \nInsieme alle persone candidate alle prossime elezioni regionali discuteremo i temi della piattaforma “Verso le elezioni regionali: diritti\, salute\, dignità”. \nParleremo di politiche concrete per una Regione che scelga la strada dei diritti\, della prevenzione\, della giustizia sociale e della tutela per tuttə.
URL:https://www.tralaltro.it/evento/elezioni-regionali-veneto/
LOCATION:Sala Paladin\, Palazzo Moroni\, Via del Municipio 1\, Padova\, Italy
CATEGORIES:Per Tuttə
ATTACH;FMTTYPE=image/jpeg:https://www.tralaltro.it/wp-content/uploads/2025/10/Elezioni-Regionali-2025.jpeg
ORGANIZER;CN="Ilenia Pennini":MAILTO:ilenia.pennini@tralaltro.it
END:VEVENT
BEGIN:VEVENT
DTSTART;TZID=Europe/Rome:20251108T170000
DTEND;TZID=Europe/Rome:20251108T200000
DTSTAMP:20260425T185440
CREATED:20251029T081644Z
LAST-MODIFIED:20251029T103326Z
UID:1413-1762621200-1762632000@www.tralaltro.it
SUMMARY:Tral’Arte 8 Novembre
DESCRIPTION:Un pomeriggio per disegnare\, dipingere\, sferruzzare\, fare crochet\, chiacchierare e stare insieme in un ambiente accogliente e rilassato. \nArcigay Tralaltro Padova – Corso Garibaldi 41Sabato 8 Novembre ore 17.00 \nPorta i tuoi materiali oppure vieni solo con la voglia di lasciarti ispirare: qui l’arte è libertà\, cura e condivisione.
URL:https://www.tralaltro.it/evento/tralarte-10-novembre/
LOCATION:TRALALTRO\, Corso Garibaldi 41\, Padova\, Italy
CATEGORIES:Tral’Arte
ATTACH;FMTTYPE=image/png:https://www.tralaltro.it/wp-content/uploads/2025/09/Tralarte-25-ottobre.png
ORGANIZER;CN="Ilenia Pennini":MAILTO:ilenia.pennini@tralaltro.it
END:VEVENT
BEGIN:VEVENT
DTSTART;TZID=Europe/Rome:20251109T173000
DTEND;TZID=Europe/Rome:20251109T203000
DTSTAMP:20260425T185440
CREATED:20251029T111240Z
LAST-MODIFIED:20251105T152614Z
UID:1422-1762709400-1762720200@www.tralaltro.it
SUMMARY:Gruppo Senior LGBTQIA+ Padova – 9 Novembre
DESCRIPTION:Domenica 9 Novembre dalle ore 17\,30\nArcigay Tralaltro Padova \nUn momento di confronto e approfondimento tematico per le persone over 50.
URL:https://www.tralaltro.it/evento/gruppo-senior-lgbtqia-padova-9-novembre/
LOCATION:TRALALTRO\, Corso Garibaldi 41\, Padova\, Italy
CATEGORIES:Gruppo Senior LGBTQIA+
ATTACH;FMTTYPE=image/png:https://www.tralaltro.it/wp-content/uploads/2025/09/Gruppo-Senior.png
END:VEVENT
BEGIN:VEVENT
DTSTART;TZID=Europe/Rome:20251111T183000
DTEND;TZID=Europe/Rome:20251111T223000
DTSTAMP:20260425T185440
CREATED:20251028T221144Z
LAST-MODIFIED:20251028T222549Z
UID:1372-1762885800-1762900200@www.tralaltro.it
SUMMARY:Gruppo Giovani - 11 Novembre - Intersex Awareness Day
DESCRIPTION:💛 Intersex 💜 \nIn vista dell’Intersex Awareness Day\, il Gruppo Giovani organizza un incontro dedicato a conoscere\, comprendere e sostenere le persone intersex. Esse esistono in tutta la loro diversità\, ma troppo spesso vengono invisibilizzate o subiscono interventi medici non necessari per conformarle a categorie binarie. \nIn questo incontro\, Claudia Basso condividerà la sua esperienza personale e il suo impegno nell’attivismo intersex\, per aiutarci a comprendere meglio le sfide\, i diritti e le rivendicazioni di questa comunità. \n✨ Ti aspettiamo per un momento di confronto aperto\, accogliente e necessario. \n📍 Dove: Arcigay Tralaltro Padova – Corso Garibaldi 41🗓️ Quando: martedì 11 Novembre alle 18:30 \nSeguirà un momento conviviale in cui mangeremo insieme: puoi portarti la schiscetta da casa o ordinare insieme a noi una pizza 🍕 \nNon serve essere già tesseratɜ: chiunque abbia voglia di avvicinarsi al gruppo è benvenutə ✨
URL:https://www.tralaltro.it/evento/gruppo-giovani-11-novembre-intersex-awareness-day/
LOCATION:TRALALTRO\, Corso Garibaldi 41\, Padova\, Italy
CATEGORIES:Gruppo Giovani
ATTACH;FMTTYPE=image/png:https://www.tralaltro.it/wp-content/uploads/2025/10/Intersex-Awareness-Day.png
END:VEVENT
BEGIN:VEVENT
DTSTART;TZID=Europe/Rome:20251112T204500
DTEND;TZID=Europe/Rome:20251112T230000
DTSTAMP:20260425T185440
CREATED:20251028T224040Z
LAST-MODIFIED:20251028T224247Z
UID:1382-1762980300-1762988400@www.tralaltro.it
SUMMARY:Aperitivo - Gruppo Millenial - 12 Novembre
DESCRIPTION:🦖 Unisciti a noi per una serata unica in stile Scandinavo Trash! Festeggiamo la nascita del Gruppo Millennial\, un nuovo spazio per incontrarci\, discutere e riflettere insieme\, con un occhio critico e uno sguardo ironico\, su tutto ciò che riguarda chi è nato tra il 1981 e il 1996. \n👾 Scopri le attività che ti aspettano quest’anno e conosci i membri del gruppo! \n🎶 Musica anni 2000 che ti farà ballare tutta la sera: da ABBA a Britney\, da Eiffel 65 a Green Day\, da Beyoncé a tanto altro\, in una selezione sonora che ti farà tornare a quei mitici anni! \n📍 Dove? Arcigay Tralaltro Padova – Corso Garibaldi 41 \n🗓️ Quando? Domenica 12 novembre\, dalle 20:45 \n🚀 Non serve prenotazione né tessera: porta solo te stessə e la voglia di divertirti con il nostro mix di divertimento\, cultura pop e tanto trash scandinavo! 🎉
URL:https://www.tralaltro.it/evento/aperitivo-gruppo-millenial-12-novembre/
LOCATION:TRALALTRO\, Corso Garibaldi 41\, Padova\, Italy
CATEGORIES:Millennial
ATTACH;FMTTYPE=image/png:https://www.tralaltro.it/wp-content/uploads/2025/10/millennial_scandinavia.png
ORGANIZER;CN="Danilo Stocchino":MAILTO:fuoridaigiri@tralaltro.it
END:VEVENT
BEGIN:VEVENT
DTSTART;TZID=Europe/Rome:20251113T203000
DTEND;TZID=Europe/Rome:20251113T223000
DTSTAMP:20260425T185440
CREATED:20251029T143817Z
LAST-MODIFIED:20251029T143817Z
UID:1430-1763065800-1763073000@www.tralaltro.it
SUMMARY:Cineforum – 13 Novembre
DESCRIPTION:Cineforum – 13 Novembre dalle 20:30\nCorso Garibaldi 41\nUn momento a cura del Gruppo Senior di incontro e confronto che unisce la visione collettiva di un film a una riflessione condivisa
URL:https://www.tralaltro.it/evento/cineforum-13-novembre/
LOCATION:TRALALTRO\, Corso Garibaldi 41\, Padova\, Italy
CATEGORIES:Gruppo Senior LGBTQIA+
ATTACH;FMTTYPE=image/png:https://www.tralaltro.it/wp-content/uploads/2025/09/cineforum-senior.png
END:VEVENT
BEGIN:VEVENT
DTSTART;TZID=Europe/Rome:20251118T183000
DTEND;TZID=Europe/Rome:20251118T223000
DTSTAMP:20260425T185440
CREATED:20251029T144548Z
LAST-MODIFIED:20251029T144548Z
UID:1432-1763490600-1763505000@www.tralaltro.it
SUMMARY:Gruppo Giovani - 18 Novembre
DESCRIPTION:🏳️‍⚧️ TDOR – Transgender Day of Remembrance 🕯️ \nOgni anno\, il 20 novembre\, ricordiamo le persone trans vittime di transfobia e violenza. \nIn vista di questa giornata\, il Gruppo Giovani ospita CdG – Conversazioni di Genere\, gruppo di ricerca e discussione sul genere\, corpi e rappresentazioni\, per un incontro dedicato al tema della transfobia. \n📍 Dove: Arcigay Tralaltro Padova – Corso Garibaldi 41\n🗓️ Quando: martedì 18 Novembre alle 18:30 \nSeguirà un momento conviviale in cui mangeremo insieme: puoi portarti la schiscetta da casa o ordinare insieme a noi una pizza 🍕 \nNon serve essere già tesseratɜ: chiunque abbia voglia di avvicinarsi al gruppo è benvenutə ✨
URL:https://www.tralaltro.it/evento/gruppo-giovani-18-novembre/
LOCATION:TRALALTRO\, Corso Garibaldi 41\, Padova\, Italy
CATEGORIES:Gruppo Giovani
ATTACH;FMTTYPE=image/png:https://www.tralaltro.it/wp-content/uploads/2025/09/Gruppo-Giovani.png
END:VEVENT
BEGIN:VEVENT
DTSTART;TZID=Europe/Rome:20251119T193000
DTEND;TZID=Europe/Rome:20251119T230000
DTSTAMP:20260425T185440
CREATED:20251028T230211Z
LAST-MODIFIED:20251113T152649Z
UID:1393-1763580600-1763593200@www.tralaltro.it
SUMMARY:Gruppo Millenial - 19  novembre - l'importanza di una casa sicura
DESCRIPTION:Parliamo di spazi sicuri e comunità\, ma senza la patina che spesso nasconde la realtà delle persone LGBTQIA+. La casa e le relazioni possono essere\, a volte\, luoghi di conflitto e vulnerabilità. Ma questa realtà esiste\, e parlarne significa abbattere i silenzi che spesso nascondono violenze\, invisibilità e marginalizzazione. 🏳️‍🌈 \nNe parliamo con Camilla Follino e Marta Zanetti di Lesvia (la linea LBT del Centro Veneto Progetti Donna)\, un gruppo che lavora per sensibilizzare sulla violenza nelle relazioni lesbiche\, un tema invisibile ma fondamentale. È importante che i nostri spazi non solo ospitino\, ma proteggano e rispettino le persone per ciò che sono. 🌈✨ \nDove e quando? \n🗓 Mercoledì 19 Novembre \n🕢 Dalle 19:30 ci troviamo per una cena condivisa (porta qualcosa da casa e\, se vuoi\, condividi) \n🗣 Inizio incontro: 20:30 \n📍 Arcigay Tralaltro Padova – Corso Giuseppe Garibaldi 41 \n📩 Per dubbi o proposte: millennial@tralaltro.it \n…ma soprattutto: vieni a trovarci!
URL:https://www.tralaltro.it/evento/gruppo-millenial-19-novembre-limportanza-di-una-casa-sicura/
LOCATION:TRALALTRO\, Corso Garibaldi 41\, Padova\, Italy
CATEGORIES:Millennial
ATTACH;FMTTYPE=image/png:https://www.tralaltro.it/wp-content/uploads/2025/10/centro-veneto-donna.png
ORGANIZER;CN="Danilo Stocchino":MAILTO:fuoridaigiri@tralaltro.it
END:VEVENT
BEGIN:VEVENT
DTSTART;TZID=Europe/Rome:20251120T193000
DTEND;TZID=Europe/Rome:20251120T220000
DTSTAMP:20260425T185440
CREATED:20251108T145317Z
LAST-MODIFIED:20251108T145317Z
UID:1465-1763667000-1763676000@www.tralaltro.it
SUMMARY:l’Altrove - Giovedì 20 novembre
DESCRIPTION:🧚 Nuova serata con l’Altrove\, la serata ludica di Arcigay Tralaltro Padova: un’occasione per incontrarsi\, giocare\, ridere e condividere momenti spensierati insieme. \nLe tipologie di giochi che animeranno la serata includono: \n♦️Giochi di carte\n🎲 Giochi da tavolo classici\n🎴 Giochi cooperativi e strategici\n🎉Party game\n🎯… e molto altro. \n🇯🇵 Oltre al gioco\, ci sarà spazio anche per condividere le tue passioni: anime\, manga\, videogiochi\, film\, serie tv e tutto ciò che ti emoziona. 🕹️ \n👉 Se hai dei giochi che ami\, portali con te: ogni proposta è benvenuta! Il nostro spazio è aperto a chiunque voglia partecipare\, in un ambiente inclusivo\, sicuro e accogliente. \n🌐 Vuoi aiutarci nell’organizzazione delle serate o restare in contatto con le persone che le frequentano? Entra nel gruppo telegram. \n📍 Ti aspettiamo Giovedì 20 novembre\, dalle 19:30 presso la sede di Arcigay Tralaltro Padova\, in Corso Garibaldi 41\, Padova.
URL:https://www.tralaltro.it/evento/laltrove-giovedi-20-novembre/
LOCATION:TRALALTRO\, Corso Garibaldi 41\, Padova\, Italy
CATEGORIES:L'Altrove
ATTACH;FMTTYPE=image/jpeg:https://www.tralaltro.it/wp-content/uploads/2025/11/1C254C3E-E1B7-4F01-BA10-70AAFEF0B204.jpeg
ORGANIZER;CN="FDZ":MAILTO:altrove@tralaltro.it
END:VEVENT
BEGIN:VEVENT
DTSTART;TZID=Europe/Rome:20251122T170000
DTEND;TZID=Europe/Rome:20251122T200000
DTSTAMP:20260425T185440
CREATED:20251029T105838Z
LAST-MODIFIED:20251029T110250Z
UID:1418-1763830800-1763841600@www.tralaltro.it
SUMMARY:Tral’Arte 22 Novembre
DESCRIPTION:Un pomeriggio per disegnare\, dipingere\, sferruzzare\, fare crochet\, chiacchierare e stare insieme in un ambiente accogliente e rilassato. \nArcigay Tralaltro Padova – Corso Garibaldi 41Sabato 22 Novembre ore 17.00 \nPorta i tuoi materiali oppure vieni solo con la voglia di lasciarti ispirare: qui l’arte è libertà\, cura e condivisione.
URL:https://www.tralaltro.it/evento/tralarte-22-novembre/
LOCATION:TRALALTRO\, Corso Garibaldi 41\, Padova\, Italy
CATEGORIES:Tral’Arte
ATTACH;FMTTYPE=image/png:https://www.tralaltro.it/wp-content/uploads/2025/09/TralArte-11-ottobre.png
ORGANIZER;CN="Ilenia Pennini":MAILTO:ilenia.pennini@tralaltro.it
END:VEVENT
BEGIN:VEVENT
DTSTART;VALUE=DATE:20251125
DTEND;VALUE=DATE:20251126
DTSTAMP:20260425T185440
CREATED:20251028T233331Z
LAST-MODIFIED:20251123T202424Z
UID:1410-1764028800-1764115199@www.tralaltro.it
SUMMARY:Gruppo Giovani - 25 novembre
DESCRIPTION:🌹STOP ALLA VIOLENZA \nPATRIARCALE E DI GENERE \nQUANDO: Martedì 25 Novembre ore 18.30 \nDOVE: In corteo\, dal Portello a P.zza dei Signori \nIl 25 novembre è una giornata di memoria\, denuncia e mobilitazione contro ogni forma di violenza patriarcale e di genere.\nIn questa data\, il Gruppo Giovani aderisce alla manifestazione cittadina insieme a collettivi\, associazioni e movimenti transfemministi.\nScendere in piazza significa unirsi alle voci di chi chiede giustizia\, libertà e autodeterminazione\, per costruire insieme una società che rifiuti ogni forma di sopraffazione e riconosca il diritto di tuttə a vivere senza paura. \n🗓️ Lunedì 25 novembre\n📍 Padova – Manifestazione cittadina
URL:https://www.tralaltro.it/evento/gruppo-giovani-25-novembre/
CATEGORIES:Gruppo Giovani
ATTACH;FMTTYPE=image/png:https://www.tralaltro.it/wp-content/uploads/2025/10/25-novembre.png
END:VEVENT
BEGIN:VEVENT
DTSTART;TZID=Europe/Rome:20251126T203000
DTEND;TZID=Europe/Rome:20251126T223000
DTSTAMP:20260425T185440
CREATED:20251029T103655Z
LAST-MODIFIED:20251126T134818Z
UID:1415-1764189000-1764196200@www.tralaltro.it
SUMMARY:Poli-spritz Queer - 26 Novembre
DESCRIPTION:Mercoledì 26 Novembre\ndalle ore 20:30\nCorso Garibaldi 41\nUn momento di socializzazione e confronto tra persone non monogame e policuriose queer
URL:https://www.tralaltro.it/evento/poli-spritz-queer-26-novembre/
LOCATION:TRALALTRO\, Corso Garibaldi 41\, Padova\, Italy
CATEGORIES:Polispritz Queer
ATTACH;FMTTYPE=image/png:https://www.tralaltro.it/wp-content/uploads/2025/09/poli-spritz-queer-1-ottobre.png
ORGANIZER;CN="Ilenia Pennini":MAILTO:ilenia.pennini@tralaltro.it
END:VEVENT
BEGIN:VEVENT
DTSTART;TZID=Europe/Rome:20251127T203000
DTEND;TZID=Europe/Rome:20251127T223000
DTSTAMP:20260425T185440
CREATED:20251029T145207Z
LAST-MODIFIED:20251029T145208Z
UID:1434-1764275400-1764282600@www.tralaltro.it
SUMMARY:Cineforum – 27 Novembre
DESCRIPTION:Cineforum\nGiovedì 27 Novembre dalle ore 20.30\nCorso Garibaldi 41\nUn momento a cura del Gruppo Senior di incontro e confronto che unisce la visione collettiva di un film a una riflessione condivisa
URL:https://www.tralaltro.it/evento/cineforum-27-novembre/
LOCATION:TRALALTRO\, Corso Garibaldi 41\, Padova\, Italy
CATEGORIES:Gruppo Senior LGBTQIA+
ATTACH;FMTTYPE=image/png:https://www.tralaltro.it/wp-content/uploads/2025/09/cineforum-senior.png
END:VEVENT
BEGIN:VEVENT
DTSTART;TZID=Europe/Rome:20251130T160000
DTEND;TZID=Europe/Rome:20251130T180000
DTSTAMP:20260425T185440
CREATED:20251121T140044Z
LAST-MODIFIED:20251121T140427Z
UID:1471-1764518400-1764525600@www.tralaltro.it
SUMMARY:Testing Time - 30 Novembre dalle ore 16
DESCRIPTION:Test HIV/sifilide rapido anonimo gratuito \n🫂Prendersi cura di sé non è mai stato così semplice. \nTest HIV/sifilide rapido\, gratuito anonimo.\n📝Vieni a farti un check. \n📍Arcigay Tralaltro Padova\n🗓 Domenica 30 Novembre dalle ore 16 alle ore 18 \n❓Siamo qui anche per rispondere a dubbi e domande su salute\, sessualità\, servizi.
URL:https://www.tralaltro.it/evento/testing-time-30-novembre-dalle-ore-16/
LOCATION:TRALALTRO\, Corso Garibaldi 41\, Padova\, Italy
CATEGORIES:Per Tuttə
ATTACH;FMTTYPE=image/png:https://www.tralaltro.it/wp-content/uploads/2025/11/test-hiv-sifilide-padova.png
ORGANIZER;CN="Ilenia Pennini":MAILTO:ilenia.pennini@tralaltro.it
END:VEVENT
END:VCALENDAR