BEGIN:VCALENDAR
VERSION:2.0
PRODID:-//Arcigay Tralaltro Padova APS - ECPv6.15.20//NONSGML v1.0//EN
CALSCALE:GREGORIAN
METHOD:PUBLISH
X-ORIGINAL-URL:https://www.tralaltro.it
X-WR-CALDESC:Eventi per Arcigay Tralaltro Padova APS
REFRESH-INTERVAL;VALUE=DURATION:PT1H
X-Robots-Tag:noindex
X-PUBLISHED-TTL:PT1H
BEGIN:VTIMEZONE
TZID:Europe/Rome
BEGIN:DAYLIGHT
TZOFFSETFROM:+0100
TZOFFSETTO:+0200
TZNAME:CEST
DTSTART:20250330T010000
END:DAYLIGHT
BEGIN:STANDARD
TZOFFSETFROM:+0200
TZOFFSETTO:+0100
TZNAME:CET
DTSTART:20251026T010000
END:STANDARD
BEGIN:DAYLIGHT
TZOFFSETFROM:+0100
TZOFFSETTO:+0200
TZNAME:CEST
DTSTART:20260329T010000
END:DAYLIGHT
BEGIN:STANDARD
TZOFFSETFROM:+0200
TZOFFSETTO:+0100
TZNAME:CET
DTSTART:20261025T010000
END:STANDARD
BEGIN:DAYLIGHT
TZOFFSETFROM:+0100
TZOFFSETTO:+0200
TZNAME:CEST
DTSTART:20270328T010000
END:DAYLIGHT
BEGIN:STANDARD
TZOFFSETFROM:+0200
TZOFFSETTO:+0100
TZNAME:CET
DTSTART:20271031T010000
END:STANDARD
END:VTIMEZONE
BEGIN:VEVENT
DTSTART;TZID=Europe/Rome:20260401T204500
DTEND;TZID=Europe/Rome:20260401T230000
DTSTAMP:20260425T172528
CREATED:20260327T090057Z
LAST-MODIFIED:20260326T164736Z
UID:1697-1775076300-1775084400@www.tralaltro.it
SUMMARY:Gruppo Millennial - Serata svacco
DESCRIPTION:🔥✨ SERATA SVACCO Millenial \nUna serata semplice\, senza pressioni\, senza programmi complicati.\nSolo un’occasione per conoscerci\, chiacchierare e passare del tempo insieme. \n🦖 Il Gruppo Millennial è lo spazio dedicato a chi è natə tra il 1981 e il 1996 e ha voglia di ritrovarsi\, condividere ricordi pop\, ridere delle proprie crisi esistenziali e costruire nuove connessioni (senza drammi\, promesso). \n🎶 Sottofondo anni 2000\, chiacchiere libere e vibe super chill. \n📍 Dove? Arcigay Tralaltro Padova – Corso Garibaldi 41\n🗓️ Quando? Mercoledì 1 Aprile\, dalle 20:45\n🚀 Ingresso libero: niente prenotazione\, niente tessera. \nPorta solo te stessə.\nAl resto pensiamo insieme. 💬✨
URL:https://www.tralaltro.it/evento/gruppo-millennial-serata-svacco/
LOCATION:TRALALTRO\, Corso Garibaldi 41\, Padova\, Italy
CATEGORIES:Millennial
ATTACH;FMTTYPE=image/png:https://www.tralaltro.it/wp-content/uploads/2026/01/millennial-14-gennaio.png
ORGANIZER;CN="Danilo Stocchino":MAILTO:fuoridaigiri@tralaltro.it
END:VEVENT
END:VCALENDAR