BEGIN:VCALENDAR
VERSION:2.0
PRODID:-//Arcigay Tralaltro Padova APS - ECPv6.15.20//NONSGML v1.0//EN
CALSCALE:GREGORIAN
METHOD:PUBLISH
X-ORIGINAL-URL:https://www.tralaltro.it
X-WR-CALDESC:Eventi per Arcigay Tralaltro Padova APS
REFRESH-INTERVAL;VALUE=DURATION:PT1H
X-Robots-Tag:noindex
X-PUBLISHED-TTL:PT1H
BEGIN:VTIMEZONE
TZID:Europe/Rome
BEGIN:DAYLIGHT
TZOFFSETFROM:+0100
TZOFFSETTO:+0200
TZNAME:CEST
DTSTART:20250330T010000
END:DAYLIGHT
BEGIN:STANDARD
TZOFFSETFROM:+0200
TZOFFSETTO:+0100
TZNAME:CET
DTSTART:20251026T010000
END:STANDARD
BEGIN:DAYLIGHT
TZOFFSETFROM:+0100
TZOFFSETTO:+0200
TZNAME:CEST
DTSTART:20260329T010000
END:DAYLIGHT
BEGIN:STANDARD
TZOFFSETFROM:+0200
TZOFFSETTO:+0100
TZNAME:CET
DTSTART:20261025T010000
END:STANDARD
BEGIN:DAYLIGHT
TZOFFSETFROM:+0100
TZOFFSETTO:+0200
TZNAME:CEST
DTSTART:20270328T010000
END:DAYLIGHT
BEGIN:STANDARD
TZOFFSETFROM:+0200
TZOFFSETTO:+0100
TZNAME:CET
DTSTART:20271031T010000
END:STANDARD
END:VTIMEZONE
BEGIN:VEVENT
DTSTART;TZID=Europe/Rome:20260408T203000
DTEND;TZID=Europe/Rome:20260408T230000
DTSTAMP:20260425T173815
CREATED:20260327T090059Z
LAST-MODIFIED:20260326T165452Z
UID:1701-1775680200-1775689200@www.tralaltro.it
SUMMARY:Gruppo Millennial - Geografia femminista
DESCRIPTION:✨ Chi decide come viviamo la città?\nLa geografia femminista ci ricorda che lo spazio urbano non è neutro: è plasmato da scelte (consapevoli o meno) che includono alcune soggettività e ne escludono altre. \nCon Elena Ostanel\, consigliera regionale e professoressa allo IUAV\, parleremo di come costruire città capaci di accogliere tutte le differenze: minoranze\, nuove forme dell’abitare\, e chi oggi resta ai margini dei quartieri e delle decisioni.\nQuali sono le necessità della nostra comunità? E quali sfide pone la città di Padova? \n📍 Dove e quando?\n🗓 Mercoledì 8 Aprile\n🕢 19:30 – Cena condivisa (porta qualcosa\, se vuoi)\n🗣 20:30 – Incontro\n📍 Arcigay Tralaltro Padova – Corso Garibaldi 41 \n📩 Info: millennial@tralaltro.it\n…e soprattutto: vieni a trovarci! 🌈
URL:https://www.tralaltro.it/evento/gruppo-millennial-geografia-femminista/
LOCATION:TRALALTRO\, Corso Garibaldi 41\, Padova\, Italy
CATEGORIES:Millennial
ATTACH;FMTTYPE=image/png:https://www.tralaltro.it/wp-content/uploads/2026/03/Discussione-di-grupp.png
ORGANIZER;CN="Danilo Stocchino":MAILTO:fuoridaigiri@tralaltro.it
END:VEVENT
END:VCALENDAR